OziExplorer Map Data File Version 2.2
D21A-Utiariti.png
sd21-1.png
1 ,Map Code,
Pulkovo 1942 (1),, 0.0000, 0.0000,WGS 84
Reserved 1
Reserved 2
Magnetic Variation,,,E
Map Projection,Latitude/Longitude,PolyCal,Yes,AutoCalOnly,No,BSBUseWPX,No
Point01,xy, 55, 97,in, deg, 12, 0.0000,S, 60, 0.0000,W, grid, , , ,
Point02,xy, 1988, 109,in, deg, 12, 0.0000,S, 58, 30.0000,W, grid, , , ,
Point03,xy, 3918, 125,in, deg, 12, 0.0000,S, 57, 0.0000,W, grid, , , ,
Point04,xy, 59, 1408,in, deg, 13, 0.0000,S, 60, 0.0000,W, grid, , , ,
Point05,xy, 1983, 1417,in, deg, 13, 0.0000,S, 58, 30.0000,W, grid, , , ,
Point06,xy, 3907, 1432,in, deg, 13, 0.0000,S, 57, 0.0000,W, grid, , , ,
Point07,xy, 60, 2716,in, deg, 14, 0.0000,S, 60, 0.0000,W, grid, , , ,
Point08,xy, 1978, 2722,in, deg, 14, 0.0000,S, 58, 30.0000,W, grid, , , ,
Point09,xy, 3893, 2738,in, deg, 14, 0.0000,S, 57, 0.0000,W, grid, , , ,
Point10,xy, , ,in, deg, , ,, , ,, grid, , , ,
Point11,xy, , ,in, deg, , ,, , ,, grid, , , ,
Point12,xy, , ,in, deg, , ,, , ,, grid, , , ,
Point13,xy, , ,in, deg, , ,, , ,, grid, , , ,
Point14,xy, , ,in, deg, , ,, , ,, grid, , , ,
Point15,xy, , ,in, deg, , ,, , ,, grid, , , ,
Point16,xy, , ,in, deg, , ,, , ,, grid, , , ,
Point17,xy, , ,in, deg, , ,, , ,, grid, , , ,
Point18,xy, , ,in, deg, , ,, , ,, grid, , , ,
Point19,xy, , ,in, deg, , ,, , ,, grid, , , ,
Point20,xy, , ,in, deg, , ,, , ,, grid, , , ,
Point21,xy, , ,in, deg, , ,, , ,, grid, , , ,
Point22,xy, , ,in, deg, , ,, , ,, grid, , , ,
Point23,xy, , ,in, deg, , ,, , ,, grid, , , ,
Point24,xy, , ,in, deg, , ,, , ,, grid, , , ,
Point25,xy, , ,in, deg, , ,, , ,, grid, , , ,
Point26,xy, , ,in, deg, , ,, , ,, grid, , , ,
Point27,xy, , ,in, deg, , ,, , ,, grid, , , ,
Point28,xy, , ,in, deg, , ,, , ,, grid, , , ,
Point29,xy, , ,in, deg, , ,, , ,, grid, , , ,
Point30,xy, , ,in, deg, , ,, , ,, grid, , , ,
Projection Setup,,,,,,,,,,
Map Feature = MF ; Map Comment = MC These follow if they exist
Track File = TF These follow if they exist
Moving Map Parameters = MM? These follow if they exist
MM0,Yes
MMPNUM,4
MMPXY,1,0,0
MMPXY,2,4009,1
MMPXY,3,3981,2827
MMPXY,4,0,2805
MMPLL,1, -60.042522, -11.925724
MMPLL,2, -56.930184, -11.904279
MMPLL,3, -56.930384, -14.068202
MMPLL,4, -60.047077, -14.068509
MM1B,84.349204
MOP,Map Open Position,0,0
IWH,Map Image Width/Height,2500,1395
