OziExplorer Map Data File Version 2.2
D20r-MonteCristo.png
sd20-4.png
1 ,Map Code,
Pulkovo 1942 (1),, 0.0000, 0.0000,WGS 84
Reserved 1
Reserved 2
Magnetic Variation,,,E
Map Projection,Latitude/Longitude,PolyCal,Yes,AutoCalOnly,No,BSBUseWPX,No
Point01,xy, 84, 98,in, deg, 14, 0.0000,S, 63, 0.0000,W, grid, , , ,
Point02,xy, 1999, 113,in, deg, 14, 0.0000,S, 61, 30.0000,W, grid, , , ,
Point03,xy, 3916, 138,in, deg, 14, 0.0000,S, 60, 0.0000,W, grid, , , ,
Point04,xy, 83, 1406,in, deg, 15, 0.0000,S, 63, 0.0000,W, grid, , , ,
Point05,xy, 1988, 1421,in, deg, 15, 0.0000,S, 61, 30.0000,W, grid, , , ,
Point06,xy, 3897, 1445,in, deg, 15, 0.0000,S, 60, 0.0000,W, grid, , , ,
Point07,xy, 81, 2714,in, deg, 16, 0.0000,S, 63, 0.0000,W, grid, , , ,
Point08,xy, 1979, 2731,in, deg, 16, 0.0000,S, 61, 30.0000,W, grid, , , ,
Point09,xy, 3881, 2755,in, deg, 16, 0.0000,S, 60, 0.0000,W, grid, , , ,
Point10,xy, , ,in, deg, , ,, , ,, grid, , , ,
Point11,xy, , ,in, deg, , ,, , ,, grid, , , ,
Point12,xy, , ,in, deg, , ,, , ,, grid, , , ,
Point13,xy, , ,in, deg, , ,, , ,, grid, , , ,
Point14,xy, , ,in, deg, , ,, , ,, grid, , , ,
Point15,xy, , ,in, deg, , ,, , ,, grid, , , ,
Point16,xy, , ,in, deg, , ,, , ,, grid, , , ,
Point17,xy, , ,in, deg, , ,, , ,, grid, , , ,
Point18,xy, , ,in, deg, , ,, , ,, grid, , , ,
Point19,xy, , ,in, deg, , ,, , ,, grid, , , ,
Point20,xy, , ,in, deg, , ,, , ,, grid, , , ,
Point21,xy, , ,in, deg, , ,, , ,, grid, , , ,
Point22,xy, , ,in, deg, , ,, , ,, grid, , , ,
Point23,xy, , ,in, deg, , ,, , ,, grid, , , ,
Point24,xy, , ,in, deg, , ,, , ,, grid, , , ,
Point25,xy, , ,in, deg, , ,, , ,, grid, , , ,
Point26,xy, , ,in, deg, , ,, , ,, grid, , , ,
Point27,xy, , ,in, deg, , ,, , ,, grid, , , ,
Point28,xy, , ,in, deg, , ,, , ,, grid, , , ,
Point29,xy, , ,in, deg, , ,, , ,, grid, , , ,
Point30,xy, , ,in, deg, , ,, , ,, grid, , , ,
Projection Setup,,,,,,,,,,
Map Feature = MF ; Map Comment = MC These follow if they exist
Track File = TF These follow if they exist
Moving Map Parameters = MM? These follow if they exist
MM0,Yes
MMPNUM,4
MMPXY,1,1,0
MMPXY,2,4014,0
MMPXY,3,3975,2853
MMPXY,4,0,2811
MMPLL,1, -63.065700, -13.925335
MMPLL,2, -59.924932, -13.893680
MMPLL,3, -59.924591, -16.073642
MMPLL,4, -63.064253, -16.074017
MM1B,84.705969
MOP,Map Open Position,0,0
IWH,Map Image Width/Height,2500,1395
