OziExplorer Map Data File Version 2.2
D20B-Trinidad.png
sd20-3.png
1 ,Map Code,
Pulkovo 1942 (1),, 0.0000, 0.0000,WGS 84
Reserved 1
Reserved 2
Magnetic Variation,,,E
Map Projection,Latitude/Longitude,PolyCal,Yes,AutoCalOnly,No,BSBUseWPX,No
Point01,xy, 79, 116,in, deg, 14, 0.0000,S, 66, 0.0000,W, grid, , , ,
Point02,xy, 1994, 121,in, deg, 14, 0.0000,S, 64, 30.0000,W, grid, , , ,
Point03,xy, 3908, 125,in, deg, 14, 0.0000,S, 63, 0.0000,W, grid, , , ,
Point04,xy, 90, 1428,in, deg, 15, 0.0000,S, 66, 0.0000,W, grid, , , ,
Point05,xy, 1994, 1427,in, deg, 15, 0.0000,S, 64, 30.0000,W, grid, , , ,
Point06,xy, 3899, 1432,in, deg, 15, 0.0000,S, 63, 0.0000,W, grid, , , ,
Point07,xy, 100, 2739,in, deg, 16, 0.0000,S, 66, 0.0000,W, grid, , , ,
Point08,xy, 1994, 2732,in, deg, 16, 0.0000,S, 64, 30.0000,W, grid, , , ,
Point09,xy, 3889, 2739,in, deg, 16, 0.0000,S, 63, 0.0000,W, grid, , , ,
Point10,xy, , ,in, deg, , ,, , ,, grid, , , ,
Point11,xy, , ,in, deg, , ,, , ,, grid, , , ,
Point12,xy, , ,in, deg, , ,, , ,, grid, , , ,
Point13,xy, , ,in, deg, , ,, , ,, grid, , , ,
Point14,xy, , ,in, deg, , ,, , ,, grid, , , ,
Point15,xy, , ,in, deg, , ,, , ,, grid, , , ,
Point16,xy, , ,in, deg, , ,, , ,, grid, , , ,
Point17,xy, , ,in, deg, , ,, , ,, grid, , , ,
Point18,xy, , ,in, deg, , ,, , ,, grid, , , ,
Point19,xy, , ,in, deg, , ,, , ,, grid, , , ,
Point20,xy, , ,in, deg, , ,, , ,, grid, , , ,
Point21,xy, , ,in, deg, , ,, , ,, grid, , , ,
Point22,xy, , ,in, deg, , ,, , ,, grid, , , ,
Point23,xy, , ,in, deg, , ,, , ,, grid, , , ,
Point24,xy, , ,in, deg, , ,, , ,, grid, , , ,
Point25,xy, , ,in, deg, , ,, , ,, grid, , , ,
Point26,xy, , ,in, deg, , ,, , ,, grid, , , ,
Point27,xy, , ,in, deg, , ,, , ,, grid, , , ,
Point28,xy, , ,in, deg, , ,, , ,, grid, , , ,
Point29,xy, , ,in, deg, , ,, , ,, grid, , , ,
Point30,xy, , ,in, deg, , ,, , ,, grid, , , ,
Projection Setup,,,,,,,,,,
Map Feature = MF ; Map Comment = MC These follow if they exist
Track File = TF These follow if they exist
Moving Map Parameters = MM? These follow if they exist
MM0,Yes
MMPNUM,4
MMPXY,1,0,0
MMPXY,2,4007,2
MMPXY,3,3983,3103
MMPXY,4,0,3104
MMPLL,1, -66.061279, -13.910461
MMPLL,2, -62.923331, -13.904545
MMPLL,3, -62.923077, -16.279745
MMPLL,4, -66.081341, -16.279348
MM1B,84.515649
MOP,Map Open Position,0,0
IWH,Map Image Width/Height,2500,1395
