OziExplorer Map Data File Version 2.2
D20-b-Vilhena.png
sd20-2.png
1 ,Map Code,
Pulkovo 1942 (1),, 0.0000, 0.0000,WGS 84
Reserved 1
Reserved 2
Magnetic Variation,,,E
Map Projection,Latitude/Longitude,PolyCal,Yes,AutoCalOnly,No,BSBUseWPX,No
Point01,xy, 86, 138,in, deg, 12, 0.0000,S, 63, 0.0000,W, grid, , , ,
Point02,xy, 2019, 144,in, deg, 12, 0.0000,S, 61, 30.0000,W, grid, , , ,
Point03,xy, 3949, 155,in, deg, 12, 0.0000,S, 60, 0.0000,W, grid, , , ,
Point04,xy, 92, 1444,in, deg, 13, 0.0000,S, 63, 0.0000,W, grid, , , ,
Point05,xy, 2013, 1454,in, deg, 13, 0.0000,S, 61, 30.0000,W, grid, , , ,
Point06,xy, 3937, 1463,in, deg, 13, 0.0000,S, 60, 0.0000,W, grid, , , ,
Point07,xy, 97, 2748,in, deg, 14, 0.0000,S, 63, 0.0000,W, grid, , , ,
Point08,xy, 2009, 2755,in, deg, 14, 0.0000,S, 61, 30.0000,W, grid, , , ,
Point09,xy, 3922, 2769,in, deg, 14, 0.0000,S, 60, 0.0000,W, grid, , , ,
Point10,xy, , ,in, deg, , ,, , ,, grid, , , ,
Point11,xy, , ,in, deg, , ,, , ,, grid, , , ,
Point12,xy, , ,in, deg, , ,, , ,, grid, , , ,
Point13,xy, , ,in, deg, , ,, , ,, grid, , , ,
Point14,xy, , ,in, deg, , ,, , ,, grid, , , ,
Point15,xy, , ,in, deg, , ,, , ,, grid, , , ,
Point16,xy, , ,in, deg, , ,, , ,, grid, , , ,
Point17,xy, , ,in, deg, , ,, , ,, grid, , , ,
Point18,xy, , ,in, deg, , ,, , ,, grid, , , ,
Point19,xy, , ,in, deg, , ,, , ,, grid, , , ,
Point20,xy, , ,in, deg, , ,, , ,, grid, , , ,
Point21,xy, , ,in, deg, , ,, , ,, grid, , , ,
Point22,xy, , ,in, deg, , ,, , ,, grid, , , ,
Point23,xy, , ,in, deg, , ,, , ,, grid, , , ,
Point24,xy, , ,in, deg, , ,, , ,, grid, , , ,
Point25,xy, , ,in, deg, , ,, , ,, grid, , , ,
Point26,xy, , ,in, deg, , ,, , ,, grid, , , ,
Point27,xy, , ,in, deg, , ,, , ,, grid, , , ,
Point28,xy, , ,in, deg, , ,, , ,, grid, , , ,
Point29,xy, , ,in, deg, , ,, , ,, grid, , , ,
Point30,xy, , ,in, deg, , ,, , ,, grid, , , ,
Projection Setup,,,,,,,,,,
Map Feature = MF ; Map Comment = MC These follow if they exist
Track File = TF These follow if they exist
Moving Map Parameters = MM? These follow if they exist
MM0,Yes
MMPNUM,4
MMPXY,1,0,0
MMPXY,2,4051,0
MMPXY,3,4016,3140
MMPXY,4,0,3117
MMPLL,1, -63.066582, -11.894935
MMPLL,2, -59.922621, -11.881500
MMPLL,3, -59.922969, -14.284825
MMPLL,4, -63.076960, -14.284576
MM1B,84.538278
MOP,Map Open Position,0,0
IWH,Map Image Width/Height,2500,1395
