OziExplorer Map Data File Version 2.2
D20A-SantaAna.png
sd20-1.png
1 ,Map Code,
Pulkovo 1942 (1),, 0.0000, 0.0000,WGS 84
Reserved 1
Reserved 2
Magnetic Variation,,,E
Map Projection,Latitude/Longitude,PolyCal,Yes,AutoCalOnly,No,BSBUseWPX,No
Point01,xy, 77, 113,in, deg, 12, 0.0000,S, 66, 0.0000,W, grid, , , ,
Point02,xy, 2006, 127,in, deg, 12, 0.0000,S, 64, 30.0000,W, grid, , , ,
Point03,xy, 3935, 141,in, deg, 12, 0.0000,S, 63, 0.0000,W, grid, , , ,
Point04,xy, 79, 1428,in, deg, 13, 0.0000,S, 66, 0.0000,W, grid, , , ,
Point05,xy, 2002, 1435,in, deg, 13, 0.0000,S, 64, 30.0000,W, grid, , , ,
Point06,xy, 3925, 1446,in, deg, 13, 0.0000,S, 63, 0.0000,W, grid, , , ,
Point07,xy, 82, 2735,in, deg, 14, 0.0000,S, 66, 0.0000,W, grid, , , ,
Point08,xy, 1997, 2741,in, deg, 14, 0.0000,S, 64, 30.0000,W, grid, , , ,
Point09,xy, 3912, 2754,in, deg, 14, 0.0000,S, 63, 0.0000,W, grid, , , ,
Point10,xy, , ,in, deg, , ,, , ,, grid, , , ,
Point11,xy, , ,in, deg, , ,, , ,, grid, , , ,
Point12,xy, , ,in, deg, , ,, , ,, grid, , , ,
Point13,xy, , ,in, deg, , ,, , ,, grid, , , ,
Point14,xy, , ,in, deg, , ,, , ,, grid, , , ,
Point15,xy, , ,in, deg, , ,, , ,, grid, , , ,
Point16,xy, , ,in, deg, , ,, , ,, grid, , , ,
Point17,xy, , ,in, deg, , ,, , ,, grid, , , ,
Point18,xy, , ,in, deg, , ,, , ,, grid, , , ,
Point19,xy, , ,in, deg, , ,, , ,, grid, , , ,
Point20,xy, , ,in, deg, , ,, , ,, grid, , , ,
Point21,xy, , ,in, deg, , ,, , ,, grid, , , ,
Point22,xy, , ,in, deg, , ,, , ,, grid, , , ,
Point23,xy, , ,in, deg, , ,, , ,, grid, , , ,
Point24,xy, , ,in, deg, , ,, , ,, grid, , , ,
Point25,xy, , ,in, deg, , ,, , ,, grid, , , ,
Point26,xy, , ,in, deg, , ,, , ,, grid, , , ,
Point27,xy, , ,in, deg, , ,, , ,, grid, , , ,
Point28,xy, , ,in, deg, , ,, , ,, grid, , , ,
Point29,xy, , ,in, deg, , ,, , ,, grid, , , ,
Point30,xy, , ,in, deg, , ,, , ,, grid, , , ,
Projection Setup,,,,,,,,,,
Map Feature = MF ; Map Comment = MC These follow if they exist
Track File = TF These follow if they exist
Moving Map Parameters = MM? These follow if they exist
MM0,Yes
MMPNUM,4
MMPXY,1,0,0
MMPXY,2,4028,0
MMPXY,3,4000,3132
MMPXY,4,0,3115
MMPLL,1, -66.059348, -11.913052
MMPLL,2, -62.928861, -11.891847
MMPLL,3, -62.928388, -14.290747
MMPLL,4, -66.064334, -14.290438
MM1B,84.531362
MOP,Map Open Position,0,0
IWH,Map Image Width/Height,2500,1395
