OziExplorer Map Data File Version 2.2
D-19-r-Sorata.png
sd19-4.png
1 ,Map Code,
Pulkovo 1942 (1),, 0.0000, 0.0000,WGS 84
Reserved 1
Reserved 2
Magnetic Variation,,,E
Map Projection,Latitude/Longitude,PolyCal,Yes,AutoCalOnly,No,BSBUseWPX,No
Point01,xy, 78, 112,in, deg, 14, 0.0000,S, 69, 0.0000,W, grid, , , ,
Point02,xy, 1994, 119,in, deg, 14, 0.0000,S, 67, 30.0000,W, grid, , , ,
Point03,xy, 3911, 135,in, deg, 14, 0.0000,S, 66, 0.0000,W, grid, , , ,
Point04,xy, 83, 1420,in, deg, 15, 0.0000,S, 69, 0.0000,W, grid, , , ,
Point05,xy, 1991, 1431,in, deg, 15, 0.0000,S, 67, 30.0000,W, grid, , , ,
Point06,xy, 3898, 1445,in, deg, 15, 0.0000,S, 66, 0.0000,W, grid, , , ,
Point07,xy, 86, 2729,in, deg, 16, 0.0000,S, 69, 0.0000,W, grid, , , ,
Point08,xy, 1985, 2737,in, deg, 16, 0.0000,S, 67, 30.0000,W, grid, , , ,
Point09,xy, 3884, 2752,in, deg, 16, 0.0000,S, 66, 0.0000,W, grid, , , ,
Point10,xy, , ,in, deg, , ,, , ,, grid, , , ,
Point11,xy, , ,in, deg, , ,, , ,, grid, , , ,
Point12,xy, , ,in, deg, , ,, , ,, grid, , , ,
Point13,xy, , ,in, deg, , ,, , ,, grid, , , ,
Point14,xy, , ,in, deg, , ,, , ,, grid, , , ,
Point15,xy, , ,in, deg, , ,, , ,, grid, , , ,
Point16,xy, , ,in, deg, , ,, , ,, grid, , , ,
Point17,xy, , ,in, deg, , ,, , ,, grid, , , ,
Point18,xy, , ,in, deg, , ,, , ,, grid, , , ,
Point19,xy, , ,in, deg, , ,, , ,, grid, , , ,
Point20,xy, , ,in, deg, , ,, , ,, grid, , , ,
Point21,xy, , ,in, deg, , ,, , ,, grid, , , ,
Point22,xy, , ,in, deg, , ,, , ,, grid, , , ,
Point23,xy, , ,in, deg, , ,, , ,, grid, , , ,
Point24,xy, , ,in, deg, , ,, , ,, grid, , , ,
Point25,xy, , ,in, deg, , ,, , ,, grid, , , ,
Point26,xy, , ,in, deg, , ,, , ,, grid, , , ,
Point27,xy, , ,in, deg, , ,, , ,, grid, , , ,
Point28,xy, , ,in, deg, , ,, , ,, grid, , , ,
Point29,xy, , ,in, deg, , ,, , ,, grid, , , ,
Point30,xy, , ,in, deg, , ,, , ,, grid, , , ,
Projection Setup,,,,,,,,,,
Map Feature = MF ; Map Comment = MC These follow if they exist
Track File = TF These follow if they exist
Moving Map Parameters = MM? These follow if they exist
MM0,Yes
MMPNUM,4
MMPXY,1,0,0
MMPXY,2,4004,0
MMPXY,3,3970,3111
MMPXY,4,0,3086
MMPLL,1, -69.060554, -13.915357
MMPLL,2, -65.927963, -13.896476
MMPLL,3, -65.928513, -16.274123
MMPLL,4, -69.068477, -16.273958
MM1B,84.526350
MOP,Map Open Position,0,0
IWH,Map Image Width/Height,2500,1395
