OziExplorer Map Data File Version 2.2
D19B-Puno.png
sd19-3.png
1 ,Map Code,
Pulkovo 1942 (1),, 0.0000, 0.0000,WGS 84
Reserved 1
Reserved 2
Magnetic Variation,,,E
Map Projection,Latitude/Longitude,PolyCal,Yes,AutoCalOnly,No,BSBUseWPX,No
Point01,xy, 57, 124,in, deg, 14, 0.0000,S, 72, 0.0000,W, grid, , , ,
Point02,xy, 1972, 125,in, deg, 14, 0.0000,S, 70, 30.0000,W, grid, , , ,
Point03,xy, 3892, 133,in, deg, 14, 0.0000,S, 69, 0.0000,W, grid, , , ,
Point04,xy, 68, 1435,in, deg, 15, 0.0000,S, 72, 0.0000,W, grid, , , ,
Point05,xy, 1975, 1436,in, deg, 15, 0.0000,S, 70, 30.0000,W, grid, , , ,
Point06,xy, 3884, 1440,in, deg, 15, 0.0000,S, 69, 0.0000,W, grid, , , ,
Point07,xy, 78, 2747,in, deg, 16, 0.0000,S, 72, 0.0000,W, grid, , , ,
Point08,xy, 1974, 2743,in, deg, 16, 0.0000,S, 70, 30.0000,W, grid, , , ,
Point09,xy, 3874, 2748,in, deg, 16, 0.0000,S, 69, 0.0000,W, grid, , , ,
Point10,xy, , ,in, deg, , ,, , ,, grid, , , ,
Point11,xy, , ,in, deg, , ,, , ,, grid, , , ,
Point12,xy, , ,in, deg, , ,, , ,, grid, , , ,
Point13,xy, , ,in, deg, , ,, , ,, grid, , , ,
Point14,xy, , ,in, deg, , ,, , ,, grid, , , ,
Point15,xy, , ,in, deg, , ,, , ,, grid, , , ,
Point16,xy, , ,in, deg, , ,, , ,, grid, , , ,
Point17,xy, , ,in, deg, , ,, , ,, grid, , , ,
Point18,xy, , ,in, deg, , ,, , ,, grid, , , ,
Point19,xy, , ,in, deg, , ,, , ,, grid, , , ,
Point20,xy, , ,in, deg, , ,, , ,, grid, , , ,
Point21,xy, , ,in, deg, , ,, , ,, grid, , , ,
Point22,xy, , ,in, deg, , ,, , ,, grid, , , ,
Point23,xy, , ,in, deg, , ,, , ,, grid, , , ,
Point24,xy, , ,in, deg, , ,, , ,, grid, , , ,
Point25,xy, , ,in, deg, , ,, , ,, grid, , , ,
Point26,xy, , ,in, deg, , ,, , ,, grid, , , ,
Point27,xy, , ,in, deg, , ,, , ,, grid, , , ,
Point28,xy, , ,in, deg, , ,, , ,, grid, , , ,
Point29,xy, , ,in, deg, , ,, , ,, grid, , , ,
Point30,xy, , ,in, deg, , ,, , ,, grid, , , ,
Projection Setup,,,,,,,,,,
Map Feature = MF ; Map Comment = MC These follow if they exist
Track File = TF These follow if they exist
Moving Map Parameters = MM? These follow if they exist
MM0,Yes
MMPNUM,4
MMPXY,1,0,0
MMPXY,2,3965,0
MMPXY,3,3945,2804
MMPXY,4,0,2803
MMPLL,1, -72.043449, -13.905536
MMPLL,2, -68.943443, -13.898084
MMPLL,3, -68.943627, -16.043000
MMPLL,4, -72.061945, -16.042875
MM1B,84.523681
MOP,Map Open Position,0,0
IWH,Map Image Width/Height,2500,1395
