OziExplorer Map Data File Version 2.2
D19-b-Ichjamas.png
sd19-2.png
1 ,Map Code,
Pulkovo 1942 (1),, 0.0000, 0.0000,WGS 84
Reserved 1
Reserved 2
Magnetic Variation,,,E
Map Projection,Latitude/Longitude,PolyCal,Yes,AutoCalOnly,No,BSBUseWPX,No
Point01,xy, 81, 115,in, deg, 12, 0.0000,S, 69, 0.0000,W, grid, , , ,
Point02,xy, 2010, 130,in, deg, 12, 0.0000,S, 67, 30.0000,W, grid, , , ,
Point03,xy, 3941, 150,in, deg, 12, 0.0000,S, 66, 0.0000,W, grid, , , ,
Point04,xy, 77, 1423,in, deg, 13, 0.0000,S, 69, 0.0000,W, grid, , , ,
Point05,xy, 2001, 1438,in, deg, 13, 0.0000,S, 67, 30.0000,W, grid, , , ,
Point06,xy, 3923, 1461,in, deg, 13, 0.0000,S, 66, 0.0000,W, grid, , , ,
Point07,xy, 72, 2726,in, deg, 14, 0.0000,S, 69, 0.0000,W, grid, , , ,
Point08,xy, 1989, 2742,in, deg, 14, 0.0000,S, 67, 30.0000,W, grid, , , ,
Point09,xy, 3906, 2766,in, deg, 14, 0.0000,S, 66, 0.0000,W, grid, , , ,
Point10,xy, , ,in, deg, , ,, , ,, grid, , , ,
Point11,xy, , ,in, deg, , ,, , ,, grid, , , ,
Point12,xy, , ,in, deg, , ,, , ,, grid, , , ,
Point13,xy, , ,in, deg, , ,, , ,, grid, , , ,
Point14,xy, , ,in, deg, , ,, , ,, grid, , , ,
Point15,xy, , ,in, deg, , ,, , ,, grid, , , ,
Point16,xy, , ,in, deg, , ,, , ,, grid, , , ,
Point17,xy, , ,in, deg, , ,, , ,, grid, , , ,
Point18,xy, , ,in, deg, , ,, , ,, grid, , , ,
Point19,xy, , ,in, deg, , ,, , ,, grid, , , ,
Point20,xy, , ,in, deg, , ,, , ,, grid, , , ,
Point21,xy, , ,in, deg, , ,, , ,, grid, , , ,
Point22,xy, , ,in, deg, , ,, , ,, grid, , , ,
Point23,xy, , ,in, deg, , ,, , ,, grid, , , ,
Point24,xy, , ,in, deg, , ,, , ,, grid, , , ,
Point25,xy, , ,in, deg, , ,, , ,, grid, , , ,
Point26,xy, , ,in, deg, , ,, , ,, grid, , , ,
Point27,xy, , ,in, deg, , ,, , ,, grid, , , ,
Point28,xy, , ,in, deg, , ,, , ,, grid, , , ,
Point29,xy, , ,in, deg, , ,, , ,, grid, , , ,
Point30,xy, , ,in, deg, , ,, , ,, grid, , , ,
Projection Setup,,,,,,,,,,
Map Feature = MF ; Map Comment = MC These follow if they exist
Track File = TF These follow if they exist
Moving Map Parameters = MM? These follow if they exist
MM0,Yes
MMPNUM,4
MMPXY,1,0,0
MMPXY,2,4049,1
MMPXY,3,4006,3159
MMPXY,4,0,3116
MMPLL,1, -69.063035, -11.912386
MMPLL,2, -65.917151, -11.885169
MMPLL,3, -65.917181, -14.300735
MMPLL,4, -69.055239, -14.300686
MM1B,84.615401
MOP,Map Open Position,0,0
IWH,Map Image Width/Height,2500,1395
