OziExplorer Map Data File Version 2.2
D19A-Cusco.png
sd19-1.png
1 ,Map Code,
Pulkovo 1942 (1),, 0.0000, 0.0000,WGS 84
Reserved 1
Reserved 2
Magnetic Variation,,,E
Map Projection,Latitude/Longitude,PolyCal,Yes,AutoCalOnly,No,BSBUseWPX,No
Point01,xy, 70, 122,in, deg, 12, 0.0000,S, 72, 0.0000,W, grid, , , ,
Point02,xy, 2006, 130,in, deg, 12, 0.0000,S, 70, 30.0000,W, grid, , , ,
Point03,xy, 3937, 146,in, deg, 12, 0.0000,S, 69, 0.0000,W, grid, , , ,
Point04,xy, 77, 1428,in, deg, 13, 0.0000,S, 72, 0.0000,W, grid, , , ,
Point05,xy, 2002, 1436,in, deg, 13, 0.0000,S, 70, 30.0000,W, grid, , , ,
Point06,xy, 3927, 1448,in, deg, 13, 0.0000,S, 69, 0.0000,W, grid, , , ,
Point07,xy, 82, 2736,in, deg, 14, 0.0000,S, 72, 0.0000,W, grid, , , ,
Point08,xy, 2002, 2741,in, deg, 14, 0.0000,S, 70, 30.0000,W, grid, , , ,
Point09,xy, 3920, 2755,in, deg, 14, 0.0000,S, 69, 0.0000,W, grid, , , ,
Point10,xy, , ,in, deg, , ,, , ,, grid, , , ,
Point11,xy, , ,in, deg, , ,, , ,, grid, , , ,
Point12,xy, , ,in, deg, , ,, , ,, grid, , , ,
Point13,xy, , ,in, deg, , ,, , ,, grid, , , ,
Point14,xy, , ,in, deg, , ,, , ,, grid, , , ,
Point15,xy, , ,in, deg, , ,, , ,, grid, , , ,
Point16,xy, , ,in, deg, , ,, , ,, grid, , , ,
Point17,xy, , ,in, deg, , ,, , ,, grid, , , ,
Point18,xy, , ,in, deg, , ,, , ,, grid, , , ,
Point19,xy, , ,in, deg, , ,, , ,, grid, , , ,
Point20,xy, , ,in, deg, , ,, , ,, grid, , , ,
Point21,xy, , ,in, deg, , ,, , ,, grid, , , ,
Point22,xy, , ,in, deg, , ,, , ,, grid, , , ,
Point23,xy, , ,in, deg, , ,, , ,, grid, , , ,
Point24,xy, , ,in, deg, , ,, , ,, grid, , , ,
Point25,xy, , ,in, deg, , ,, , ,, grid, , , ,
Point26,xy, , ,in, deg, , ,, , ,, grid, , , ,
Point27,xy, , ,in, deg, , ,, , ,, grid, , , ,
Point28,xy, , ,in, deg, , ,, , ,, grid, , , ,
Point29,xy, , ,in, deg, , ,, , ,, grid, , , ,
Point30,xy, , ,in, deg, , ,, , ,, grid, , , ,
Projection Setup,,,,,,,,,,
Map Feature = MF ; Map Comment = MC These follow if they exist
Track File = TF These follow if they exist
Moving Map Parameters = MM? These follow if they exist
MM0,Yes
MMPNUM,4
MMPXY,1,0,0
MMPXY,2,4025,0
MMPXY,3,4004,3128
MMPXY,4,2,3110
MMPLL,1, -72.054609, -11.906569
MMPLL,2, -68.932599, -11.887554
MMPLL,3, -68.932273, -14.285343
MMPLL,4, -72.064528, -14.285791
MM1B,84.265034
MOP,Map Open Position,0,0
IWH,Map Image Width/Height,2500,1395
