OziExplorer Map Data File Version 2.2
D18r-Pukbo.png
sd18-4.png
1 ,Map Code,
Pulkovo 1942 (1),, 0.0000, 0.0000,WGS 84
Reserved 1
Reserved 2
Magnetic Variation,,,E
Map Projection,Latitude/Longitude,PolyCal,Yes,AutoCalOnly,No,BSBUseWPX,No
Point01,xy, 84, 104,in, deg, 14, 0.0000,S, 75, 0.0000,W, grid, , , ,
Point02,xy, 1995, 119,in, deg, 14, 0.0000,S, 73, 30.0000,W, grid, , , ,
Point03,xy, 3909, 125,in, deg, 14, 0.0000,S, 72, 0.0000,W, grid, , , ,
Point04,xy, 85, 1417,in, deg, 15, 0.0000,S, 75, 0.0000,W, grid, , , ,
Point05,xy, 1990, 1426,in, deg, 15, 0.0000,S, 73, 30.0000,W, grid, , , ,
Point06,xy, 3897, 1440,in, deg, 15, 0.0000,S, 72, 0.0000,W, grid, , , ,
Point07,xy, 87, 2724,in, deg, 16, 0.0000,S, 75, 0.0000,W, grid, , , ,
Point08,xy, 1985, 2729,in, deg, 16, 0.0000,S, 73, 30.0000,W, grid, , , ,
Point09,xy, 3883, 2749,in, deg, 16, 0.0000,S, 72, 0.0000,W, grid, , , ,
Point10,xy, , ,in, deg, , ,, , ,, grid, , , ,
Point11,xy, , ,in, deg, , ,, , ,, grid, , , ,
Point12,xy, , ,in, deg, , ,, , ,, grid, , , ,
Point13,xy, , ,in, deg, , ,, , ,, grid, , , ,
Point14,xy, , ,in, deg, , ,, , ,, grid, , , ,
Point15,xy, , ,in, deg, , ,, , ,, grid, , , ,
Point16,xy, , ,in, deg, , ,, , ,, grid, , , ,
Point17,xy, , ,in, deg, , ,, , ,, grid, , , ,
Point18,xy, , ,in, deg, , ,, , ,, grid, , , ,
Point19,xy, , ,in, deg, , ,, , ,, grid, , , ,
Point20,xy, , ,in, deg, , ,, , ,, grid, , , ,
Point21,xy, , ,in, deg, , ,, , ,, grid, , , ,
Point22,xy, , ,in, deg, , ,, , ,, grid, , , ,
Point23,xy, , ,in, deg, , ,, , ,, grid, , , ,
Point24,xy, , ,in, deg, , ,, , ,, grid, , , ,
Point25,xy, , ,in, deg, , ,, , ,, grid, , , ,
Point26,xy, , ,in, deg, , ,, , ,, grid, , , ,
Point27,xy, , ,in, deg, , ,, , ,, grid, , , ,
Point28,xy, , ,in, deg, , ,, , ,, grid, , , ,
Point29,xy, , ,in, deg, , ,, , ,, grid, , , ,
Point30,xy, , ,in, deg, , ,, , ,, grid, , , ,
Projection Setup,,,,,,,,,,
Map Feature = MF ; Map Comment = MC These follow if they exist
Track File = TF These follow if they exist
Moving Map Parameters = MM? These follow if they exist
MM0,Yes
MMPNUM,4
MMPXY,1,0,0
MMPXY,2,4016,3
MMPXY,3,3985,3129
MMPXY,4,0,3102
MMPLL,1, -75.065409, -13.919439
MMPLL,2, -71.917138, -13.905066
MMPLL,3, -71.916767, -16.292180
MMPLL,4, -75.069225, -16.292119
MM1B,84.766286
MOP,Map Open Position,0,0
IWH,Map Image Width/Height,2500,1395
