OziExplorer Map Data File Version 2.2
D18B-Ica.png
sd18-3.png
1 ,Map Code,
Pulkovo 1942 (1),, 0.0000, 0.0000,WGS 84
Reserved 1
Reserved 2
Magnetic Variation,,,E
Map Projection,Latitude/Longitude,PolyCal,Yes,AutoCalOnly,No,BSBUseWPX,No
Point01,xy, 71, 126,in, deg, 14, 0.0000,S, 78, 0.0000,W, grid, , , ,
Point02,xy, 1991, 122,in, deg, 14, 0.0000,S, 76, 30.0000,W, grid, , , ,
Point03,xy, 3910, 128,in, deg, 14, 0.0000,S, 75, 0.0000,W, grid, , , ,
Point04,xy, 85, 1434,in, deg, 15, 0.0000,S, 78, 0.0000,W, grid, , , ,
Point05,xy, 1996, 1431,in, deg, 15, 0.0000,S, 76, 30.0000,W, grid, , , ,
Point06,xy, 3905, 1436,in, deg, 15, 0.0000,S, 75, 0.0000,W, grid, , , ,
Point07,xy, 97, 2744,in, deg, 16, 0.0000,S, 78, 0.0000,W, grid, , , ,
Point08,xy, 1999, 2739,in, deg, 16, 0.0000,S, 76, 30.0000,W, grid, , , ,
Point09,xy, 3898, 2741,in, deg, 16, 0.0000,S, 75, 0.0000,W, grid, , , ,
Point10,xy, , ,in, deg, , ,, , ,, grid, , , ,
Point11,xy, , ,in, deg, , ,, , ,, grid, , , ,
Point12,xy, , ,in, deg, , ,, , ,, grid, , , ,
Point13,xy, , ,in, deg, , ,, , ,, grid, , , ,
Point14,xy, , ,in, deg, , ,, , ,, grid, , , ,
Point15,xy, , ,in, deg, , ,, , ,, grid, , , ,
Point16,xy, , ,in, deg, , ,, , ,, grid, , , ,
Point17,xy, , ,in, deg, , ,, , ,, grid, , , ,
Point18,xy, , ,in, deg, , ,, , ,, grid, , , ,
Point19,xy, , ,in, deg, , ,, , ,, grid, , , ,
Point20,xy, , ,in, deg, , ,, , ,, grid, , , ,
Point21,xy, , ,in, deg, , ,, , ,, grid, , , ,
Point22,xy, , ,in, deg, , ,, , ,, grid, , , ,
Point23,xy, , ,in, deg, , ,, , ,, grid, , , ,
Point24,xy, , ,in, deg, , ,, , ,, grid, , , ,
Point25,xy, , ,in, deg, , ,, , ,, grid, , , ,
Point26,xy, , ,in, deg, , ,, , ,, grid, , , ,
Point27,xy, , ,in, deg, , ,, , ,, grid, , , ,
Point28,xy, , ,in, deg, , ,, , ,, grid, , , ,
Point29,xy, , ,in, deg, , ,, , ,, grid, , , ,
Point30,xy, , ,in, deg, , ,, , ,, grid, , , ,
Projection Setup,,,,,,,,,,
Map Feature = MF ; Map Comment = MC These follow if they exist
Track File = TF These follow if they exist
Moving Map Parameters = MM? These follow if they exist
MM0,Yes
MMPNUM,4
MMPXY,1,0,0
MMPXY,2,3987,0
MMPXY,3,3972,3100
MMPXY,4,0,3103
MMPLL,1, -78.054127, -13.904152
MMPLL,2, -74.939950, -13.901686
MMPLL,3, -74.939824, -16.274180
MMPLL,4, -78.079070, -16.274108
MM1B,84.194115
MOP,Map Open Position,0,0
IWH,Map Image Width/Height,2500,1395
