OziExplorer Map Data File Version 2.2
D18-b-Ajakutscho.png
sd18-2.png
1 ,Map Code,
Pulkovo 1942 (1),, 0.0000, 0.0000,WGS 84
Reserved 1
Reserved 2
Magnetic Variation,,,E
Map Projection,Latitude/Longitude,PolyCal,Yes,AutoCalOnly,No,BSBUseWPX,No
Point01,xy, 79, 116,in, deg, 12, 0.0000,S, 75, 0.0000,W, grid, , , ,
Point02,xy, 2009, 126,in, deg, 12, 0.0000,S, 73, 30.0000,W, grid, , , ,
Point03,xy, 3941, 141,in, deg, 12, 0.0000,S, 72, 0.0000,W, grid, , , ,
Point04,xy, 77, 1426,in, deg, 13, 0.0000,S, 75, 0.0000,W, grid, , , ,
Point05,xy, 2004, 1432,in, deg, 13, 0.0000,S, 73, 30.0000,W, grid, , , ,
Point06,xy, 3930, 1447,in, deg, 13, 0.0000,S, 72, 0.0000,W, grid, , , ,
Point07,xy, 80, 2732,in, deg, 14, 0.0000,S, 75, 0.0000,W, grid, , , ,
Point08,xy, 1998, 2739,in, deg, 14, 0.0000,S, 73, 30.0000,W, grid, , , ,
Point09,xy, 3917, 2753,in, deg, 14, 0.0000,S, 72, 0.0000,W, grid, , , ,
Point10,xy, , ,in, deg, , ,, , ,, grid, , , ,
Point11,xy, , ,in, deg, , ,, , ,, grid, , , ,
Point12,xy, , ,in, deg, , ,, , ,, grid, , , ,
Point13,xy, , ,in, deg, , ,, , ,, grid, , , ,
Point14,xy, , ,in, deg, , ,, , ,, grid, , , ,
Point15,xy, , ,in, deg, , ,, , ,, grid, , , ,
Point16,xy, , ,in, deg, , ,, , ,, grid, , , ,
Point17,xy, , ,in, deg, , ,, , ,, grid, , , ,
Point18,xy, , ,in, deg, , ,, , ,, grid, , , ,
Point19,xy, , ,in, deg, , ,, , ,, grid, , , ,
Point20,xy, , ,in, deg, , ,, , ,, grid, , , ,
Point21,xy, , ,in, deg, , ,, , ,, grid, , , ,
Point22,xy, , ,in, deg, , ,, , ,, grid, , , ,
Point23,xy, , ,in, deg, , ,, , ,, grid, , , ,
Point24,xy, , ,in, deg, , ,, , ,, grid, , , ,
Point25,xy, , ,in, deg, , ,, , ,, grid, , , ,
Point26,xy, , ,in, deg, , ,, , ,, grid, , , ,
Point27,xy, , ,in, deg, , ,, , ,, grid, , , ,
Point28,xy, , ,in, deg, , ,, , ,, grid, , , ,
Point29,xy, , ,in, deg, , ,, , ,, grid, , , ,
Point30,xy, , ,in, deg, , ,, , ,, grid, , , ,
Projection Setup,,,,,,,,,,
Map Feature = MF ; Map Comment = MC These follow if they exist
Track File = TF These follow if they exist
Moving Map Parameters = MM? These follow if they exist
MM0,Yes
MMPNUM,4
MMPXY,1,0,0
MMPXY,2,4053,0
MMPXY,3,4023,3156
MMPXY,4,0,3135
MMPLL,1, -75.060735, -11.911023
MMPLL,2, -71.914431, -11.891260
MMPLL,3, -71.914818, -14.308401
MMPLL,4, -75.062441, -14.308247
MM1B,84.569735
MOP,Map Open Position,0,0
IWH,Map Image Width/Height,2500,1395
