OziExplorer Map Data File Version 2.2
D18A-Lima.png
sd18-1.png
1 ,Map Code,
Pulkovo 1942 (1),, 0.0000, 0.0000,WGS 84
Reserved 1
Reserved 2
Magnetic Variation,,,E
Map Projection,Latitude/Longitude,PolyCal,Yes,AutoCalOnly,No,BSBUseWPX,No
Point01,xy, 71, 124,in, deg, 12, 0.0000,S, 78, 0.0000,W, grid, , , ,
Point02,xy, 2002, 116,in, deg, 12, 0.0000,S, 76, 30.0000,W, grid, , , ,
Point03,xy, 3933, 111,in, deg, 12, 0.0000,S, 75, 0.0000,W, grid, , , ,
Point04,xy, 84, 1432,in, deg, 13, 0.0000,S, 78, 0.0000,W, grid, , , ,
Point05,xy, 2010, 1423,in, deg, 13, 0.0000,S, 76, 30.0000,W, grid, , , ,
Point06,xy, 3934, 1417,in, deg, 13, 0.0000,S, 75, 0.0000,W, grid, , , ,
Point07,xy, 98, 2740,in, deg, 14, 0.0000,S, 78, 0.0000,W, grid, , , ,
Point08,xy, 2015, 2728,in, deg, 14, 0.0000,S, 76, 30.0000,W, grid, , , ,
Point09,xy, 3932, 2725,in, deg, 14, 0.0000,S, 75, 0.0000,W, grid, , , ,
Point10,xy, , ,in, deg, , ,, , ,, grid, , , ,
Point11,xy, , ,in, deg, , ,, , ,, grid, , , ,
Point12,xy, , ,in, deg, , ,, , ,, grid, , , ,
Point13,xy, , ,in, deg, , ,, , ,, grid, , , ,
Point14,xy, , ,in, deg, , ,, , ,, grid, , , ,
Point15,xy, , ,in, deg, , ,, , ,, grid, , , ,
Point16,xy, , ,in, deg, , ,, , ,, grid, , , ,
Point17,xy, , ,in, deg, , ,, , ,, grid, , , ,
Point18,xy, , ,in, deg, , ,, , ,, grid, , , ,
Point19,xy, , ,in, deg, , ,, , ,, grid, , , ,
Point20,xy, , ,in, deg, , ,, , ,, grid, , , ,
Point21,xy, , ,in, deg, , ,, , ,, grid, , , ,
Point22,xy, , ,in, deg, , ,, , ,, grid, , , ,
Point23,xy, , ,in, deg, , ,, , ,, grid, , , ,
Point24,xy, , ,in, deg, , ,, , ,, grid, , , ,
Point25,xy, , ,in, deg, , ,, , ,, grid, , , ,
Point26,xy, , ,in, deg, , ,, , ,, grid, , , ,
Point27,xy, , ,in, deg, , ,, , ,, grid, , , ,
Point28,xy, , ,in, deg, , ,, , ,, grid, , , ,
Point29,xy, , ,in, deg, , ,, , ,, grid, , , ,
Point30,xy, , ,in, deg, , ,, , ,, grid, , , ,
Projection Setup,,,,,,,,,,
Map Feature = MF ; Map Comment = MC These follow if they exist
Track File = TF These follow if they exist
Moving Map Parameters = MM? These follow if they exist
MM0,Yes
MMPNUM,4
MMPXY,1,0,1
MMPXY,2,3998,0
MMPXY,3,3996,3071
MMPXY,4,0,3088
MMPLL,1, -78.053639, -11.905225
MMPLL,2, -74.949605, -11.914952
MMPLL,3, -74.949541, -14.265537
MMPLL,4, -78.078786, -14.266020
MM1B,84.408666
MOP,Map Open Position,0,0
IWH,Map Image Width/Height,2500,1395
