OziExplorer Map Data File Version 2.2
C25A-Recife.png
sc25-1.png
1 ,Map Code,
Pulkovo 1942 (1),, 0.0000, 0.0000,WGS 84
Reserved 1
Reserved 2
Magnetic Variation,,,E
Map Projection,Latitude/Longitude,PolyCal,Yes,AutoCalOnly,No,BSBUseWPX,No
Point01,xy, 62, 117,in, deg, 8, 0.0000,S, 36, 0.0000,W, grid, , , ,
Point02,xy, 2016, 123,in, deg, 8, 0.0000,S, 34, 30.0000,W, grid, , , ,
Point03,xy, 3968, 133,in, deg, 8, 0.0000,S, 33, 0.0000,W, grid, , , ,
Point04,xy, 67, 1424,in, deg, 9, 0.0000,S, 36, 0.0000,W, grid, , , ,
Point05,xy, 2014, 1431,in, deg, 9, 0.0000,S, 34, 30.0000,W, grid, , , ,
Point06,xy, 3961, 1436,in, deg, 9, 0.0000,S, 33, 0.0000,W, grid, , , ,
Point07,xy, 71, 2734,in, deg, 10, 0.0000,S, 36, 0.0000,W, grid, , , ,
Point08,xy, 2011, 2735,in, deg, 10, 0.0000,S, 34, 30.0000,W, grid, , , ,
Point09,xy, 3953, 2741,in, deg, 10, 0.0000,S, 33, 0.0000,W, grid, , , ,
Point10,xy, , ,in, deg, , ,, , ,, grid, , , ,
Point11,xy, , ,in, deg, , ,, , ,, grid, , , ,
Point12,xy, , ,in, deg, , ,, , ,, grid, , , ,
Point13,xy, , ,in, deg, , ,, , ,, grid, , , ,
Point14,xy, , ,in, deg, , ,, , ,, grid, , , ,
Point15,xy, , ,in, deg, , ,, , ,, grid, , , ,
Point16,xy, , ,in, deg, , ,, , ,, grid, , , ,
Point17,xy, , ,in, deg, , ,, , ,, grid, , , ,
Point18,xy, , ,in, deg, , ,, , ,, grid, , , ,
Point19,xy, , ,in, deg, , ,, , ,, grid, , , ,
Point20,xy, , ,in, deg, , ,, , ,, grid, , , ,
Point21,xy, , ,in, deg, , ,, , ,, grid, , , ,
Point22,xy, , ,in, deg, , ,, , ,, grid, , , ,
Point23,xy, , ,in, deg, , ,, , ,, grid, , , ,
Point24,xy, , ,in, deg, , ,, , ,, grid, , , ,
Point25,xy, , ,in, deg, , ,, , ,, grid, , , ,
Point26,xy, , ,in, deg, , ,, , ,, grid, , , ,
Point27,xy, , ,in, deg, , ,, , ,, grid, , , ,
Point28,xy, , ,in, deg, , ,, , ,, grid, , , ,
Point29,xy, , ,in, deg, , ,, , ,, grid, , , ,
Point30,xy, , ,in, deg, , ,, , ,, grid, , , ,
Projection Setup,,,,,,,,,,
Map Feature = MF ; Map Comment = MC These follow if they exist
Track File = TF These follow if they exist
Moving Map Parameters = MM? These follow if they exist
MM0,Yes
MMPNUM,4
MMPXY,1,0,0
MMPXY,2,4065,0
MMPXY,3,4045,3092
MMPXY,4,0,3085
MMPLL,1, -36.047506, -7.910974
MMPLL,2, -32.926311, -7.897718
MMPLL,3, -32.926718, -10.269187
MMPLL,4, -36.055286, -10.268606
MM1B,84.522368
MOP,Map Open Position,0,0
IWH,Map Image Width/Height,2500,1395
