OziExplorer Map Data File Version 2.2
C24r-Arakaju.png
sc24-4.png
1 ,Map Code,
Pulkovo 1942 (1),, 0.0000, 0.0000,WGS 84
Reserved 1
Reserved 2
Magnetic Variation,,,E
Map Projection,Latitude/Longitude,PolyCal,Yes,AutoCalOnly,No,BSBUseWPX,No
Point01,xy, 72, 122,in, deg, 10, 0.0000,S, 39, 0.0000,W, grid, , , ,
Point02,xy, 2017, 119,in, deg, 10, 0.0000,S, 37, 30.0000,W, grid, , , ,
Point03,xy, 3956, 119,in, deg, 10, 0.0000,S, 36, 0.0000,W, grid, , , ,
Point04,xy, 84, 1427,in, deg, 11, 0.0000,S, 39, 0.0000,W, grid, , , ,
Point05,xy, 2020, 1424,in, deg, 11, 0.0000,S, 37, 30.0000,W, grid, , , ,
Point06,xy, 3955, 1427,in, deg, 11, 0.0000,S, 36, 0.0000,W, grid, , , ,
Point07,xy, 94, 2736,in, deg, 12, 0.0000,S, 39, 0.0000,W, grid, , , ,
Point08,xy, 2024, 2728,in, deg, 12, 0.0000,S, 37, 30.0000,W, grid, , , ,
Point09,xy, 3950, 2730,in, deg, 12, 0.0000,S, 36, 0.0000,W, grid, , , ,
Point10,xy, , ,in, deg, , ,, , ,, grid, , , ,
Point11,xy, , ,in, deg, , ,, , ,, grid, , , ,
Point12,xy, , ,in, deg, , ,, , ,, grid, , , ,
Point13,xy, , ,in, deg, , ,, , ,, grid, , , ,
Point14,xy, , ,in, deg, , ,, , ,, grid, , , ,
Point15,xy, , ,in, deg, , ,, , ,, grid, , , ,
Point16,xy, , ,in, deg, , ,, , ,, grid, , , ,
Point17,xy, , ,in, deg, , ,, , ,, grid, , , ,
Point18,xy, , ,in, deg, , ,, , ,, grid, , , ,
Point19,xy, , ,in, deg, , ,, , ,, grid, , , ,
Point20,xy, , ,in, deg, , ,, , ,, grid, , , ,
Point21,xy, , ,in, deg, , ,, , ,, grid, , , ,
Point22,xy, , ,in, deg, , ,, , ,, grid, , , ,
Point23,xy, , ,in, deg, , ,, , ,, grid, , , ,
Point24,xy, , ,in, deg, , ,, , ,, grid, , , ,
Point25,xy, , ,in, deg, , ,, , ,, grid, , , ,
Point26,xy, , ,in, deg, , ,, , ,, grid, , , ,
Point27,xy, , ,in, deg, , ,, , ,, grid, , , ,
Point28,xy, , ,in, deg, , ,, , ,, grid, , , ,
Point29,xy, , ,in, deg, , ,, , ,, grid, , , ,
Point30,xy, , ,in, deg, , ,, , ,, grid, , , ,
Projection Setup,,,,,,,,,,
Map Feature = MF ; Map Comment = MC These follow if they exist
Track File = TF These follow if they exist
Moving Map Parameters = MM? These follow if they exist
MM0,Yes
MMPNUM,4
MMPXY,1,0,0
MMPXY,2,4050,0
MMPXY,3,4041,3087
MMPXY,4,0,3092
MMPLL,1, -39.054749, -9.906614
MMPLL,2, -35.927816, -9.907641
MMPLL,3, -35.928092, -12.273485
MMPLL,4, -39.074869, -12.273360
MM1B,84.481327
MOP,Map Open Position,0,0
IWH,Map Image Width/Height,2500,1395
