OziExplorer Map Data File Version 2.2
C24B-SeniorDuBofin.png
sc24-3.png
1 ,Map Code,
Pulkovo 1942 (1),, 0.0000, 0.0000,WGS 84
Reserved 1
Reserved 2
Magnetic Variation,,,E
Map Projection,Latitude/Longitude,PolyCal,Yes,AutoCalOnly,No,BSBUseWPX,No
Point01,xy, 57, 124,in, deg, 10, 0.0000,S, 42, 0.0000,W, grid, , , ,
Point02,xy, 1996, 120,in, deg, 10, 0.0000,S, 40, 30.0000,W, grid, , , ,
Point03,xy, 3935, 119,in, deg, 10, 0.0000,S, 39, 0.0000,W, grid, , , ,
Point04,xy, 67, 1432,in, deg, 11, 0.0000,S, 42, 0.0000,W, grid, , , ,
Point05,xy, 2001, 1426,in, deg, 11, 0.0000,S, 40, 30.0000,W, grid, , , ,
Point06,xy, 3937, 1425,in, deg, 11, 0.0000,S, 39, 0.0000,W, grid, , , ,
Point07,xy, 80, 2738,in, deg, 12, 0.0000,S, 42, 0.0000,W, grid, , , ,
Point08,xy, 2006, 2733,in, deg, 12, 0.0000,S, 40, 30.0000,W, grid, , , ,
Point09,xy, 3933, 2733,in, deg, 12, 0.0000,S, 39, 0.0000,W, grid, , , ,
Point10,xy, , ,in, deg, , ,, , ,, grid, , , ,
Point11,xy, , ,in, deg, , ,, , ,, grid, , , ,
Point12,xy, , ,in, deg, , ,, , ,, grid, , , ,
Point13,xy, , ,in, deg, , ,, , ,, grid, , , ,
Point14,xy, , ,in, deg, , ,, , ,, grid, , , ,
Point15,xy, , ,in, deg, , ,, , ,, grid, , , ,
Point16,xy, , ,in, deg, , ,, , ,, grid, , , ,
Point17,xy, , ,in, deg, , ,, , ,, grid, , , ,
Point18,xy, , ,in, deg, , ,, , ,, grid, , , ,
Point19,xy, , ,in, deg, , ,, , ,, grid, , , ,
Point20,xy, , ,in, deg, , ,, , ,, grid, , , ,
Point21,xy, , ,in, deg, , ,, , ,, grid, , , ,
Point22,xy, , ,in, deg, , ,, , ,, grid, , , ,
Point23,xy, , ,in, deg, , ,, , ,, grid, , , ,
Point24,xy, , ,in, deg, , ,, , ,, grid, , , ,
Point25,xy, , ,in, deg, , ,, , ,, grid, , , ,
Point26,xy, , ,in, deg, , ,, , ,, grid, , , ,
Point27,xy, , ,in, deg, , ,, , ,, grid, , , ,
Point28,xy, , ,in, deg, , ,, , ,, grid, , , ,
Point29,xy, , ,in, deg, , ,, , ,, grid, , , ,
Point30,xy, , ,in, deg, , ,, , ,, grid, , , ,
Projection Setup,,,,,,,,,,
Map Feature = MF ; Map Comment = MC These follow if they exist
Track File = TF These follow if they exist
Moving Map Parameters = MM? These follow if they exist
MM0,Yes
MMPNUM,4
MMPXY,1,0,1
MMPXY,2,4018,0
MMPXY,3,4014,3091
MMPXY,4,0,3097
MMPLL,1, -42.042723, -9.905271
MMPLL,2, -38.936580, -9.908949
MMPLL,3, -38.937044, -12.274154
MMPLL,4, -42.063966, -12.274223
MM1B,84.678850
MOP,Map Open Position,0,0
IWH,Map Image Width/Height,2500,1395
