OziExplorer Map Data File Version 2.2
C24-b-Garanjuns.png
sc24-2.png
1 ,Map Code,
Pulkovo 1942 (1),, 0.0000, 0.0000,WGS 84
Reserved 1
Reserved 2
Magnetic Variation,,,E
Map Projection,Latitude/Longitude,PolyCal,Yes,AutoCalOnly,No,BSBUseWPX,No
Point01,xy, 85, 114,in, deg, 8, 0.0000,S, 39, 0.0000,W, grid, , , ,
Point02,xy, 2037, 118,in, deg, 8, 0.0000,S, 37, 30.0000,W, grid, , , ,
Point03,xy, 3987, 120,in, deg, 8, 0.0000,S, 36, 0.0000,W, grid, , , ,
Point04,xy, 89, 1416,in, deg, 9, 0.0000,S, 39, 0.0000,W, grid, , , ,
Point05,xy, 2040, 1422,in, deg, 9, 0.0000,S, 37, 30.0000,W, grid, , , ,
Point06,xy, 3984, 1426,in, deg, 9, 0.0000,S, 36, 0.0000,W, grid, , , ,
Point07,xy, 95, 2725,in, deg, 10, 0.0000,S, 39, 0.0000,W, grid, , , ,
Point08,xy, 2038, 2727,in, deg, 10, 0.0000,S, 37, 30.0000,W, grid, , , ,
Point09,xy, 3979, 2730,in, deg, 10, 0.0000,S, 36, 0.0000,W, grid, , , ,
Point10,xy, , ,in, deg, , ,, , ,, grid, , , ,
Point11,xy, , ,in, deg, , ,, , ,, grid, , , ,
Point12,xy, , ,in, deg, , ,, , ,, grid, , , ,
Point13,xy, , ,in, deg, , ,, , ,, grid, , , ,
Point14,xy, , ,in, deg, , ,, , ,, grid, , , ,
Point15,xy, , ,in, deg, , ,, , ,, grid, , , ,
Point16,xy, , ,in, deg, , ,, , ,, grid, , , ,
Point17,xy, , ,in, deg, , ,, , ,, grid, , , ,
Point18,xy, , ,in, deg, , ,, , ,, grid, , , ,
Point19,xy, , ,in, deg, , ,, , ,, grid, , , ,
Point20,xy, , ,in, deg, , ,, , ,, grid, , , ,
Point21,xy, , ,in, deg, , ,, , ,, grid, , , ,
Point22,xy, , ,in, deg, , ,, , ,, grid, , , ,
Point23,xy, , ,in, deg, , ,, , ,, grid, , , ,
Point24,xy, , ,in, deg, , ,, , ,, grid, , , ,
Point25,xy, , ,in, deg, , ,, , ,, grid, , , ,
Point26,xy, , ,in, deg, , ,, , ,, grid, , , ,
Point27,xy, , ,in, deg, , ,, , ,, grid, , , ,
Point28,xy, , ,in, deg, , ,, , ,, grid, , , ,
Point29,xy, , ,in, deg, , ,, , ,, grid, , , ,
Point30,xy, , ,in, deg, , ,, , ,, grid, , , ,
Projection Setup,,,,,,,,,,
Map Feature = MF ; Map Comment = MC These follow if they exist
Track File = TF These follow if they exist
Moving Map Parameters = MM? These follow if they exist
MM0,Yes
MMPNUM,4
MMPXY,1,0,0
MMPXY,2,4082,1
MMPXY,3,4072,3117
MMPXY,4,0,3110
MMPLL,1, -39.064284, -7.913126
MMPLL,2, -35.927051, -7.907842
MMPLL,3, -35.926680, -10.295688
MMPLL,4, -39.073506, -10.295431
MM1B,84.556551
MOP,Map Open Position,0,0
IWH,Map Image Width/Height,2500,1395
