OziExplorer Map Data File Version 2.2
C24A-Petrolina.png
sc24-1.png
1 ,Map Code,
Pulkovo 1942 (1),, 0.0000, 0.0000,WGS 84
Reserved 1
Reserved 2
Magnetic Variation,,,E
Map Projection,Latitude/Longitude,PolyCal,Yes,AutoCalOnly,No,BSBUseWPX,No
Point01,xy, 70, 118,in, deg, 8, 0.0000,S, 42, 0.0000,W, grid, , , ,
Point02,xy, 2022, 133,in, deg, 8, 0.0000,S, 40, 30.0000,W, grid, , , ,
Point03,xy, 3975, 148,in, deg, 8, 0.0000,S, 39, 0.0000,W, grid, , , ,
Point04,xy, 72, 1426,in, deg, 9, 0.0000,S, 42, 0.0000,W, grid, , , ,
Point05,xy, 2018, 1438,in, deg, 9, 0.0000,S, 40, 30.0000,W, grid, , , ,
Point06,xy, 3964, 1452,in, deg, 9, 0.0000,S, 39, 0.0000,W, grid, , , ,
Point07,xy, 71, 2736,in, deg, 10, 0.0000,S, 42, 0.0000,W, grid, , , ,
Point08,xy, 2013, 2742,in, deg, 10, 0.0000,S, 40, 30.0000,W, grid, , , ,
Point09,xy, 3953, 2757,in, deg, 10, 0.0000,S, 39, 0.0000,W, grid, , , ,
Point10,xy, , ,in, deg, , ,, , ,, grid, , , ,
Point11,xy, , ,in, deg, , ,, , ,, grid, , , ,
Point12,xy, , ,in, deg, , ,, , ,, grid, , , ,
Point13,xy, , ,in, deg, , ,, , ,, grid, , , ,
Point14,xy, , ,in, deg, , ,, , ,, grid, , , ,
Point15,xy, , ,in, deg, , ,, , ,, grid, , , ,
Point16,xy, , ,in, deg, , ,, , ,, grid, , , ,
Point17,xy, , ,in, deg, , ,, , ,, grid, , , ,
Point18,xy, , ,in, deg, , ,, , ,, grid, , , ,
Point19,xy, , ,in, deg, , ,, , ,, grid, , , ,
Point20,xy, , ,in, deg, , ,, , ,, grid, , , ,
Point21,xy, , ,in, deg, , ,, , ,, grid, , , ,
Point22,xy, , ,in, deg, , ,, , ,, grid, , , ,
Point23,xy, , ,in, deg, , ,, , ,, grid, , , ,
Point24,xy, , ,in, deg, , ,, , ,, grid, , , ,
Point25,xy, , ,in, deg, , ,, , ,, grid, , , ,
Point26,xy, , ,in, deg, , ,, , ,, grid, , , ,
Point27,xy, , ,in, deg, , ,, , ,, grid, , , ,
Point28,xy, , ,in, deg, , ,, , ,, grid, , , ,
Point29,xy, , ,in, deg, , ,, , ,, grid, , , ,
Point30,xy, , ,in, deg, , ,, , ,, grid, , , ,
Projection Setup,,,,,,,,,,
Map Feature = MF ; Map Comment = MC These follow if they exist
Track File = TF These follow if they exist
Moving Map Parameters = MM? These follow if they exist
MM0,Yes
MMPNUM,4
MMPXY,1,0,0
MMPXY,2,4063,1
MMPXY,3,4037,3138
MMPXY,4,1,3117
MMPLL,1, -42.053633, -7.909667
MMPLL,2, -38.932852, -7.885999
MMPLL,3, -38.932255, -10.292207
MMPLL,4, -42.054373, -10.291973
MM1B,84.542426
MOP,Map Open Position,0,0
IWH,Map Image Width/Height,2500,1395
