OziExplorer Map Data File Version 2.2
C23r-Barra.png
sc23-4.png
1 ,Map Code,
Pulkovo 1942 (1),, 0.0000, 0.0000,WGS 84
Reserved 1
Reserved 2
Magnetic Variation,,,E
Map Projection,Latitude/Longitude,PolyCal,Yes,AutoCalOnly,No,BSBUseWPX,No
Point01,xy, 78, 134,in, deg, 10, 0.0000,S, 45, 0.0000,W, grid, , , ,
Point02,xy, 2020, 140,in, deg, 10, 0.0000,S, 43, 30.0000,W, grid, , , ,
Point03,xy, 3964, 144,in, deg, 10, 0.0000,S, 42, 0.0000,W, grid, , , ,
Point04,xy, 84, 1439,in, deg, 11, 0.0000,S, 45, 0.0000,W, grid, , , ,
Point05,xy, 2019, 1446,in, deg, 11, 0.0000,S, 43, 30.0000,W, grid, , , ,
Point06,xy, 3955, 1450,in, deg, 11, 0.0000,S, 42, 0.0000,W, grid, , , ,
Point07,xy, 89, 2746,in, deg, 12, 0.0000,S, 45, 0.0000,W, grid, , , ,
Point08,xy, 2018, 2751,in, deg, 12, 0.0000,S, 43, 30.0000,W, grid, , , ,
Point09,xy, 3952, 2757,in, deg, 12, 0.0000,S, 42, 0.0000,W, grid, , , ,
Point10,xy, , ,in, deg, , ,, , ,, grid, , , ,
Point11,xy, , ,in, deg, , ,, , ,, grid, , , ,
Point12,xy, , ,in, deg, , ,, , ,, grid, , , ,
Point13,xy, , ,in, deg, , ,, , ,, grid, , , ,
Point14,xy, , ,in, deg, , ,, , ,, grid, , , ,
Point15,xy, , ,in, deg, , ,, , ,, grid, , , ,
Point16,xy, , ,in, deg, , ,, , ,, grid, , , ,
Point17,xy, , ,in, deg, , ,, , ,, grid, , , ,
Point18,xy, , ,in, deg, , ,, , ,, grid, , , ,
Point19,xy, , ,in, deg, , ,, , ,, grid, , , ,
Point20,xy, , ,in, deg, , ,, , ,, grid, , , ,
Point21,xy, , ,in, deg, , ,, , ,, grid, , , ,
Point22,xy, , ,in, deg, , ,, , ,, grid, , , ,
Point23,xy, , ,in, deg, , ,, , ,, grid, , , ,
Point24,xy, , ,in, deg, , ,, , ,, grid, , , ,
Point25,xy, , ,in, deg, , ,, , ,, grid, , , ,
Point26,xy, , ,in, deg, , ,, , ,, grid, , , ,
Point27,xy, , ,in, deg, , ,, , ,, grid, , , ,
Point28,xy, , ,in, deg, , ,, , ,, grid, , , ,
Point29,xy, , ,in, deg, , ,, , ,, grid, , , ,
Point30,xy, , ,in, deg, , ,, , ,, grid, , , ,
Projection Setup,,,,,,,,,,
Map Feature = MF ; Map Comment = MC These follow if they exist
Track File = TF These follow if they exist
Moving Map Parameters = MM? These follow if they exist
MM0,Yes
MMPNUM,4
MMPXY,1,0,0
MMPXY,2,4049,0
MMPXY,3,4033,3122
MMPXY,4,1,3110
MMPLL,1, -45.060560, -9.897499
MMPLL,2, -41.934792, -9.889429
MMPLL,3, -41.935415, -12.279356
MMPLL,4, -45.070221, -12.279218
MM1B,84.751282
MOP,Map Open Position,0,0
IWH,Map Image Width/Height,2500,1395
