OziExplorer Map Data File Version 2.2
C23B-Dianopolis.png
sc23-3.png
1 ,Map Code,
Pulkovo 1942 (1),, 0.0000, 0.0000,WGS 84
Reserved 1
Reserved 2
Magnetic Variation,,,E
Map Projection,Latitude/Longitude,PolyCal,Yes,AutoCalOnly,No,BSBUseWPX,No
Point01,xy, 81, 116,in, deg, 10, 0.0000,S, 48, 0.0000,W, grid, , , ,
Point02,xy, 2028, 129,in, deg, 10, 0.0000,S, 46, 30.0000,W, grid, , , ,
Point03,xy, 3973, 149,in, deg, 10, 0.0000,S, 45, 0.0000,W, grid, , , ,
Point04,xy, 81, 1424,in, deg, 11, 0.0000,S, 48, 0.0000,W, grid, , , ,
Point05,xy, 2020, 1435,in, deg, 11, 0.0000,S, 46, 30.0000,W, grid, , , ,
Point06,xy, 3957, 1454,in, deg, 11, 0.0000,S, 45, 0.0000,W, grid, , , ,
Point07,xy, 79, 2730,in, deg, 12, 0.0000,S, 48, 0.0000,W, grid, , , ,
Point08,xy, 2010, 2740,in, deg, 12, 0.0000,S, 46, 30.0000,W, grid, , , ,
Point09,xy, 3942, 2758,in, deg, 12, 0.0000,S, 45, 0.0000,W, grid, , , ,
Point10,xy, , ,in, deg, , ,, , ,, grid, , , ,
Point11,xy, , ,in, deg, , ,, , ,, grid, , , ,
Point12,xy, , ,in, deg, , ,, , ,, grid, , , ,
Point13,xy, , ,in, deg, , ,, , ,, grid, , , ,
Point14,xy, , ,in, deg, , ,, , ,, grid, , , ,
Point15,xy, , ,in, deg, , ,, , ,, grid, , , ,
Point16,xy, , ,in, deg, , ,, , ,, grid, , , ,
Point17,xy, , ,in, deg, , ,, , ,, grid, , , ,
Point18,xy, , ,in, deg, , ,, , ,, grid, , , ,
Point19,xy, , ,in, deg, , ,, , ,, grid, , , ,
Point20,xy, , ,in, deg, , ,, , ,, grid, , , ,
Point21,xy, , ,in, deg, , ,, , ,, grid, , , ,
Point22,xy, , ,in, deg, , ,, , ,, grid, , , ,
Point23,xy, , ,in, deg, , ,, , ,, grid, , , ,
Point24,xy, , ,in, deg, , ,, , ,, grid, , , ,
Point25,xy, , ,in, deg, , ,, , ,, grid, , , ,
Point26,xy, , ,in, deg, , ,, , ,, grid, , , ,
Point27,xy, , ,in, deg, , ,, , ,, grid, , , ,
Point28,xy, , ,in, deg, , ,, , ,, grid, , , ,
Point29,xy, , ,in, deg, , ,, , ,, grid, , , ,
Point30,xy, , ,in, deg, , ,, , ,, grid, , , ,
Projection Setup,,,,,,,,,,
Map Feature = MF ; Map Comment = MC These follow if they exist
Track File = TF These follow if they exist
Moving Map Parameters = MM? These follow if they exist
MM0,Yes
MMPNUM,4
MMPXY,1,1,0
MMPXY,2,4080,0
MMPXY,3,4041,3138
MMPXY,4,0,3109
MMPLL,1, -48.061955, -9.911462
MMPLL,2, -44.918744, -9.884861
MMPLL,3, -44.918705, -12.290875
MMPLL,4, -48.060788, -12.290491
MM1B,84.331823
MOP,Map Open Position,0,0
IWH,Map Image Width/Height,2500,1395
