OziExplorer Map Data File Version 2.2
C23-b-Remansu.png
sc23-2.png
1 ,Map Code,
Pulkovo 1942 (1),, 0.0000, 0.0000,WGS 84
Reserved 1
Reserved 2
Magnetic Variation,,,E
Map Projection,Latitude/Longitude,PolyCal,Yes,AutoCalOnly,No,BSBUseWPX,No
Point01,xy, 81, 109,in, deg, 8, 0.0000,S, 45, 0.0000,W, grid, , , ,
Point02,xy, 2037, 120,in, deg, 8, 0.0000,S, 43, 30.0000,W, grid, , , ,
Point03,xy, 3991, 131,in, deg, 8, 0.0000,S, 42, 0.0000,W, grid, , , ,
Point04,xy, 83, 1419,in, deg, 9, 0.0000,S, 45, 0.0000,W, grid, , , ,
Point05,xy, 2034, 1429,in, deg, 9, 0.0000,S, 43, 30.0000,W, grid, , , ,
Point06,xy, 3983, 1438,in, deg, 9, 0.0000,S, 42, 0.0000,W, grid, , , ,
Point07,xy, 87, 2725,in, deg, 10, 0.0000,S, 45, 0.0000,W, grid, , , ,
Point08,xy, 2032, 2732,in, deg, 10, 0.0000,S, 43, 30.0000,W, grid, , , ,
Point09,xy, 3977, 2743,in, deg, 10, 0.0000,S, 42, 0.0000,W, grid, , , ,
Point10,xy, , ,in, deg, , ,, , ,, grid, , , ,
Point11,xy, , ,in, deg, , ,, , ,, grid, , , ,
Point12,xy, , ,in, deg, , ,, , ,, grid, , , ,
Point13,xy, , ,in, deg, , ,, , ,, grid, , , ,
Point14,xy, , ,in, deg, , ,, , ,, grid, , , ,
Point15,xy, , ,in, deg, , ,, , ,, grid, , , ,
Point16,xy, , ,in, deg, , ,, , ,, grid, , , ,
Point17,xy, , ,in, deg, , ,, , ,, grid, , , ,
Point18,xy, , ,in, deg, , ,, , ,, grid, , , ,
Point19,xy, , ,in, deg, , ,, , ,, grid, , , ,
Point20,xy, , ,in, deg, , ,, , ,, grid, , , ,
Point21,xy, , ,in, deg, , ,, , ,, grid, , , ,
Point22,xy, , ,in, deg, , ,, , ,, grid, , , ,
Point23,xy, , ,in, deg, , ,, , ,, grid, , , ,
Point24,xy, , ,in, deg, , ,, , ,, grid, , , ,
Point25,xy, , ,in, deg, , ,, , ,, grid, , , ,
Point26,xy, , ,in, deg, , ,, , ,, grid, , , ,
Point27,xy, , ,in, deg, , ,, , ,, grid, , , ,
Point28,xy, , ,in, deg, , ,, , ,, grid, , , ,
Point29,xy, , ,in, deg, , ,, , ,, grid, , , ,
Point30,xy, , ,in, deg, , ,, , ,, grid, , , ,
Projection Setup,,,,,,,,,,
Map Feature = MF ; Map Comment = MC These follow if they exist
Track File = TF These follow if they exist
Moving Map Parameters = MM? These follow if they exist
MM0,Yes
MMPNUM,4
MMPXY,1,0,0
MMPXY,2,4062,0
MMPXY,3,4044,3118
MMPXY,4,0,3100
MMPLL,1, -45.062107, -7.916968
MMPLL,2, -41.946273, -7.899663
MMPLL,3, -41.946911, -10.288472
MMPLL,4, -45.067980, -10.288295
MM1B,84.495603
MOP,Map Open Position,0,0
IWH,Map Image Width/Height,2500,1395
