OziExplorer Map Data File Version 2.2
C23A-AltuParanaiba.png
sc23-1.png
1 ,Map Code,
Pulkovo 1942 (1),, 0.0000, 0.0000,WGS 84
Reserved 1
Reserved 2
Magnetic Variation,,,E
Map Projection,Latitude/Longitude,PolyCal,Yes,AutoCalOnly,No,BSBUseWPX,No
Point01,xy, 86, 144,in, deg, 8, 0.0000,S, 48, 0.0000,W, grid, , , ,
Point02,xy, 2046, 147,in, deg, 8, 0.0000,S, 46, 30.0000,W, grid, , , ,
Point03,xy, 4001, 153,in, deg, 8, 0.0000,S, 45, 0.0000,W, grid, , , ,
Point04,xy, 95, 1454,in, deg, 9, 0.0000,S, 48, 0.0000,W, grid, , , ,
Point05,xy, 2048, 1457,in, deg, 9, 0.0000,S, 46, 30.0000,W, grid, , , ,
Point06,xy, 3998, 1458,in, deg, 9, 0.0000,S, 45, 0.0000,W, grid, , , ,
Point07,xy, 103, 2760,in, deg, 10, 0.0000,S, 48, 0.0000,W, grid, , , ,
Point08,xy, 2051, 2759,in, deg, 10, 0.0000,S, 46, 30.0000,W, grid, , , ,
Point09,xy, 3994, 2765,in, deg, 10, 0.0000,S, 45, 0.0000,W, grid, , , ,
Point10,xy, , ,in, deg, , ,, , ,, grid, , , ,
Point11,xy, , ,in, deg, , ,, , ,, grid, , , ,
Point12,xy, , ,in, deg, , ,, , ,, grid, , , ,
Point13,xy, , ,in, deg, , ,, , ,, grid, , , ,
Point14,xy, , ,in, deg, , ,, , ,, grid, , , ,
Point15,xy, , ,in, deg, , ,, , ,, grid, , , ,
Point16,xy, , ,in, deg, , ,, , ,, grid, , , ,
Point17,xy, , ,in, deg, , ,, , ,, grid, , , ,
Point18,xy, , ,in, deg, , ,, , ,, grid, , , ,
Point19,xy, , ,in, deg, , ,, , ,, grid, , , ,
Point20,xy, , ,in, deg, , ,, , ,, grid, , , ,
Point21,xy, , ,in, deg, , ,, , ,, grid, , , ,
Point22,xy, , ,in, deg, , ,, , ,, grid, , , ,
Point23,xy, , ,in, deg, , ,, , ,, grid, , , ,
Point24,xy, , ,in, deg, , ,, , ,, grid, , , ,
Point25,xy, , ,in, deg, , ,, , ,, grid, , , ,
Point26,xy, , ,in, deg, , ,, , ,, grid, , , ,
Point27,xy, , ,in, deg, , ,, , ,, grid, , , ,
Point28,xy, , ,in, deg, , ,, , ,, grid, , , ,
Point29,xy, , ,in, deg, , ,, , ,, grid, , , ,
Point30,xy, , ,in, deg, , ,, , ,, grid, , , ,
Projection Setup,,,,,,,,,,
Map Feature = MF ; Map Comment = MC These follow if they exist
Track File = TF These follow if they exist
Moving Map Parameters = MM? These follow if they exist
MM0,Yes
MMPNUM,4
MMPXY,1,0,0
MMPXY,2,4073,0
MMPXY,3,4064,3113
MMPXY,4,0,3109
MMPLL,1, -48.065069, -7.889882
MMPLL,2, -44.945090, -7.883368
MMPLL,3, -44.945144, -10.268118
MMPLL,4, -48.081058, -10.267790
MM1B,84.141172
MOP,Map Open Position,0,0
IWH,Map Image Width/Height,2500,1395
