OziExplorer Map Data File Version 2.2
C22r-Gurupi.png
sc22-4.png
1 ,Map Code,
Pulkovo 1942 (1),, 0.0000, 0.0000,WGS 84
Reserved 1
Reserved 2
Magnetic Variation,,,E
Map Projection,Latitude/Longitude,PolyCal,Yes,AutoCalOnly,No,BSBUseWPX,No
Point01,xy, 73, 138,in, deg, 10, 0.0000,S, 51, 0.0000,W, grid, , , ,
Point02,xy, 2020, 144,in, deg, 10, 0.0000,S, 49, 30.0000,W, grid, , , ,
Point03,xy, 3967, 151,in, deg, 10, 0.0000,S, 48, 0.0000,W, grid, , , ,
Point04,xy, 80, 1443,in, deg, 11, 0.0000,S, 51, 0.0000,W, grid, , , ,
Point05,xy, 2019, 1449,in, deg, 11, 0.0000,S, 49, 30.0000,W, grid, , , ,
Point06,xy, 3958, 1459,in, deg, 11, 0.0000,S, 48, 0.0000,W, grid, , , ,
Point07,xy, 87, 2750,in, deg, 12, 0.0000,S, 51, 0.0000,W, grid, , , ,
Point08,xy, 2020, 2753,in, deg, 12, 0.0000,S, 49, 30.0000,W, grid, , , ,
Point09,xy, 3950, 2765,in, deg, 12, 0.0000,S, 48, 0.0000,W, grid, , , ,
Point10,xy, , ,in, deg, , ,, , ,, grid, , , ,
Point11,xy, , ,in, deg, , ,, , ,, grid, , , ,
Point12,xy, , ,in, deg, , ,, , ,, grid, , , ,
Point13,xy, , ,in, deg, , ,, , ,, grid, , , ,
Point14,xy, , ,in, deg, , ,, , ,, grid, , , ,
Point15,xy, , ,in, deg, , ,, , ,, grid, , , ,
Point16,xy, , ,in, deg, , ,, , ,, grid, , , ,
Point17,xy, , ,in, deg, , ,, , ,, grid, , , ,
Point18,xy, , ,in, deg, , ,, , ,, grid, , , ,
Point19,xy, , ,in, deg, , ,, , ,, grid, , , ,
Point20,xy, , ,in, deg, , ,, , ,, grid, , , ,
Point21,xy, , ,in, deg, , ,, , ,, grid, , , ,
Point22,xy, , ,in, deg, , ,, , ,, grid, , , ,
Point23,xy, , ,in, deg, , ,, , ,, grid, , , ,
Point24,xy, , ,in, deg, , ,, , ,, grid, , , ,
Point25,xy, , ,in, deg, , ,, , ,, grid, , , ,
Point26,xy, , ,in, deg, , ,, , ,, grid, , , ,
Point27,xy, , ,in, deg, , ,, , ,, grid, , , ,
Point28,xy, , ,in, deg, , ,, , ,, grid, , , ,
Point29,xy, , ,in, deg, , ,, , ,, grid, , , ,
Point30,xy, , ,in, deg, , ,, , ,, grid, , , ,
Projection Setup,,,,,,,,,,
Map Feature = MF ; Map Comment = MC These follow if they exist
Track File = TF These follow if they exist
Moving Map Parameters = MM? These follow if they exist
MM0,Yes
MMPNUM,4
MMPXY,1,0,0
MMPXY,2,4039,1
MMPXY,3,4018,3134
MMPXY,4,1,3118
MMPLL,1, -51.055621, -9.894153
MMPLL,2, -47.945162, -9.884160
MMPLL,3, -47.945733, -12.282498
MMPLL,4, -51.069000, -12.282924
MM1B,84.388544
MOP,Map Open Position,0,0
IWH,Map Image Width/Height,2500,1395
