OziExplorer Map Data File Version 2.2
C22B-SerraDuRoncador.png
sc22-3.png
1 ,Map Code,
Pulkovo 1942 (1),, 0.0000, 0.0000,WGS 84
Reserved 1
Reserved 2
Magnetic Variation,,,E
Map Projection,Latitude/Longitude,PolyCal,Yes,AutoCalOnly,No,BSBUseWPX,No
Point01,xy, 78, 132,in, deg, 10, 0.0000,S, 54, 0.0000,W, grid, , , ,
Point02,xy, 2025, 130,in, deg, 10, 0.0000,S, 52, 30.0000,W, grid, , , ,
Point03,xy, 3969, 130,in, deg, 10, 0.0000,S, 51, 0.0000,W, grid, , , ,
Point04,xy, 90, 1438,in, deg, 11, 0.0000,S, 54, 0.0000,W, grid, , , ,
Point05,xy, 2030, 1437,in, deg, 11, 0.0000,S, 52, 30.0000,W, grid, , , ,
Point06,xy, 3967, 1434,in, deg, 11, 0.0000,S, 51, 0.0000,W, grid, , , ,
Point07,xy, 100, 2742,in, deg, 12, 0.0000,S, 54, 0.0000,W, grid, , , ,
Point08,xy, 2032, 2737,in, deg, 12, 0.0000,S, 52, 30.0000,W, grid, , , ,
Point09,xy, 3963, 2739,in, deg, 12, 0.0000,S, 51, 0.0000,W, grid, , , ,
Point10,xy, , ,in, deg, , ,, , ,, grid, , , ,
Point11,xy, , ,in, deg, , ,, , ,, grid, , , ,
Point12,xy, , ,in, deg, , ,, , ,, grid, , , ,
Point13,xy, , ,in, deg, , ,, , ,, grid, , , ,
Point14,xy, , ,in, deg, , ,, , ,, grid, , , ,
Point15,xy, , ,in, deg, , ,, , ,, grid, , , ,
Point16,xy, , ,in, deg, , ,, , ,, grid, , , ,
Point17,xy, , ,in, deg, , ,, , ,, grid, , , ,
Point18,xy, , ,in, deg, , ,, , ,, grid, , , ,
Point19,xy, , ,in, deg, , ,, , ,, grid, , , ,
Point20,xy, , ,in, deg, , ,, , ,, grid, , , ,
Point21,xy, , ,in, deg, , ,, , ,, grid, , , ,
Point22,xy, , ,in, deg, , ,, , ,, grid, , , ,
Point23,xy, , ,in, deg, , ,, , ,, grid, , , ,
Point24,xy, , ,in, deg, , ,, , ,, grid, , , ,
Point25,xy, , ,in, deg, , ,, , ,, grid, , , ,
Point26,xy, , ,in, deg, , ,, , ,, grid, , , ,
Point27,xy, , ,in, deg, , ,, , ,, grid, , , ,
Point28,xy, , ,in, deg, , ,, , ,, grid, , , ,
Point29,xy, , ,in, deg, , ,, , ,, grid, , , ,
Point30,xy, , ,in, deg, , ,, , ,, grid, , , ,
Projection Setup,,,,,,,,,,
Map Feature = MF ; Map Comment = MC These follow if they exist
Track File = TF These follow if they exist
Moving Map Parameters = MM? These follow if they exist
MM0,Yes
MMPNUM,4
MMPXY,1,0,0
MMPXY,2,4042,0
MMPXY,3,4034,3083
MMPXY,4,0,3087
MMPLL,1, -54.059093, -9.898693
MMPLL,2, -50.943808, -9.900642
MMPLL,3, -50.943368, -12.265173
MMPLL,4, -54.079153, -12.265301
MM1B,84.283845
MOP,Map Open Position,0,0
IWH,Map Image Width/Height,2500,1395
