OziExplorer Map Data File Version 2.2
C22-b-PedruAfonsu.png
sc22-2.png
1 ,Map Code,
Pulkovo 1942 (1),, 0.0000, 0.0000,WGS 84
Reserved 1
Reserved 2
Magnetic Variation,,,E
Map Projection,Latitude/Longitude,PolyCal,Yes,AutoCalOnly,No,BSBUseWPX,No
Point01,xy, 80, 124,in, deg, 8, 0.0000,S, 51, 0.0000,W, grid, , , ,
Point02,xy, 2037, 130,in, deg, 8, 0.0000,S, 49, 30.0000,W, grid, , , ,
Point03,xy, 3996, 137,in, deg, 8, 0.0000,S, 48, 0.0000,W, grid, , , ,
Point04,xy, 87, 1429,in, deg, 9, 0.0000,S, 51, 0.0000,W, grid, , , ,
Point05,xy, 2038, 1437,in, deg, 9, 0.0000,S, 49, 30.0000,W, grid, , , ,
Point06,xy, 3992, 1441,in, deg, 9, 0.0000,S, 48, 0.0000,W, grid, , , ,
Point07,xy, 91, 2734,in, deg, 10, 0.0000,S, 51, 0.0000,W, grid, , , ,
Point08,xy, 2036, 2740,in, deg, 10, 0.0000,S, 49, 30.0000,W, grid, , , ,
Point09,xy, 3985, 2749,in, deg, 10, 0.0000,S, 48, 0.0000,W, grid, , , ,
Point10,xy, , ,in, deg, , ,, , ,, grid, , , ,
Point11,xy, , ,in, deg, , ,, , ,, grid, , , ,
Point12,xy, , ,in, deg, , ,, , ,, grid, , , ,
Point13,xy, , ,in, deg, , ,, , ,, grid, , , ,
Point14,xy, , ,in, deg, , ,, , ,, grid, , , ,
Point15,xy, , ,in, deg, , ,, , ,, grid, , , ,
Point16,xy, , ,in, deg, , ,, , ,, grid, , , ,
Point17,xy, , ,in, deg, , ,, , ,, grid, , , ,
Point18,xy, , ,in, deg, , ,, , ,, grid, , , ,
Point19,xy, , ,in, deg, , ,, , ,, grid, , , ,
Point20,xy, , ,in, deg, , ,, , ,, grid, , , ,
Point21,xy, , ,in, deg, , ,, , ,, grid, , , ,
Point22,xy, , ,in, deg, , ,, , ,, grid, , , ,
Point23,xy, , ,in, deg, , ,, , ,, grid, , , ,
Point24,xy, , ,in, deg, , ,, , ,, grid, , , ,
Point25,xy, , ,in, deg, , ,, , ,, grid, , , ,
Point26,xy, , ,in, deg, , ,, , ,, grid, , , ,
Point27,xy, , ,in, deg, , ,, , ,, grid, , , ,
Point28,xy, , ,in, deg, , ,, , ,, grid, , , ,
Point29,xy, , ,in, deg, , ,, , ,, grid, , , ,
Point30,xy, , ,in, deg, , ,, , ,, grid, , , ,
Projection Setup,,,,,,,,,,
Map Feature = MF ; Map Comment = MC These follow if they exist
Track File = TF These follow if they exist
Moving Map Parameters = MM? These follow if they exist
MM0,Yes
MMPNUM,4
MMPXY,1,0,0
MMPXY,2,4069,0
MMPXY,3,4055,3115
MMPXY,4,0,3100
MMPLL,1, -51.060877, -7.905031
MMPLL,2, -47.944507, -7.895296
MMPLL,3, -47.944021, -10.280710
MMPLL,4, -51.070560, -10.280887
MM1B,84.550496
MOP,Map Open Position,0,0
IWH,Map Image Width/Height,2500,1395
