OziExplorer Map Data File Version 2.2
C22A-SerraDuMatan.png
sc22-1.png
1 ,Map Code,
Pulkovo 1942 (1),, 0.0000, 0.0000,WGS 84
Reserved 1
Reserved 2
Magnetic Variation,,,E
Map Projection,Latitude/Longitude,PolyCal,Yes,AutoCalOnly,No,BSBUseWPX,No
Point01,xy, 79, 121,in, deg, 8, 0.0000,S, 54, 0.0000,W, grid, , , ,
Point02,xy, 2035, 140,in, deg, 8, 0.0000,S, 52, 30.0000,W, grid, , , ,
Point03,xy, 3988, 159,in, deg, 8, 0.0000,S, 51, 0.0000,W, grid, , , ,
Point04,xy, 76, 1429,in, deg, 9, 0.0000,S, 54, 0.0000,W, grid, , , ,
Point05,xy, 2027, 1446,in, deg, 9, 0.0000,S, 52, 30.0000,W, grid, , , ,
Point06,xy, 3975, 1465,in, deg, 9, 0.0000,S, 51, 0.0000,W, grid, , , ,
Point07,xy, 75, 2737,in, deg, 10, 0.0000,S, 54, 0.0000,W, grid, , , ,
Point08,xy, 2015, 2751,in, deg, 10, 0.0000,S, 52, 30.0000,W, grid, , , ,
Point09,xy, 3958, 2772,in, deg, 10, 0.0000,S, 51, 0.0000,W, grid, , , ,
Point10,xy, , ,in, deg, , ,, , ,, grid, , , ,
Point11,xy, , ,in, deg, , ,, , ,, grid, , , ,
Point12,xy, , ,in, deg, , ,, , ,, grid, , , ,
Point13,xy, , ,in, deg, , ,, , ,, grid, , , ,
Point14,xy, , ,in, deg, , ,, , ,, grid, , , ,
Point15,xy, , ,in, deg, , ,, , ,, grid, , , ,
Point16,xy, , ,in, deg, , ,, , ,, grid, , , ,
Point17,xy, , ,in, deg, , ,, , ,, grid, , , ,
Point18,xy, , ,in, deg, , ,, , ,, grid, , , ,
Point19,xy, , ,in, deg, , ,, , ,, grid, , , ,
Point20,xy, , ,in, deg, , ,, , ,, grid, , , ,
Point21,xy, , ,in, deg, , ,, , ,, grid, , , ,
Point22,xy, , ,in, deg, , ,, , ,, grid, , , ,
Point23,xy, , ,in, deg, , ,, , ,, grid, , , ,
Point24,xy, , ,in, deg, , ,, , ,, grid, , , ,
Point25,xy, , ,in, deg, , ,, , ,, grid, , , ,
Point26,xy, , ,in, deg, , ,, , ,, grid, , , ,
Point27,xy, , ,in, deg, , ,, , ,, grid, , , ,
Point28,xy, , ,in, deg, , ,, , ,, grid, , , ,
Point29,xy, , ,in, deg, , ,, , ,, grid, , , ,
Point30,xy, , ,in, deg, , ,, , ,, grid, , , ,
Projection Setup,,,,,,,,,,
Map Feature = MF ; Map Comment = MC These follow if they exist
Track File = TF These follow if they exist
Moving Map Parameters = MM? These follow if they exist
MM0,Yes
MMPNUM,4
MMPXY,1,0,0
MMPXY,2,4090,1
MMPXY,3,4052,3146
MMPXY,4,0,3110
MMPLL,1, -54.060465, -7.907496
MMPLL,2, -50.923623, -7.877832
MMPLL,3, -50.923220, -10.286168
MMPLL,4, -54.055995, -10.286146
MM1B,84.392220
MOP,Map Open Position,0,0
IWH,Map Image Width/Height,2500,1395
