OziExplorer Map Data File Version 2.2
C21r-SerraFormosa.png
sc21-4.png
1 ,Map Code,
Pulkovo 1942 (1),, 0.0000, 0.0000,WGS 84
Reserved 1
Reserved 2
Magnetic Variation,,,E
Map Projection,Latitude/Longitude,PolyCal,Yes,AutoCalOnly,No,BSBUseWPX,No
Point01,xy, 64, 122,in, deg, 10, 0.0000,S, 57, 0.0000,W, grid, , , ,
Point02,xy, 2015, 123,in, deg, 10, 0.0000,S, 55, 30.0000,W, grid, , , ,
Point03,xy, 3964, 134,in, deg, 10, 0.0000,S, 54, 0.0000,W, grid, , , ,
Point04,xy, 68, 1429,in, deg, 11, 0.0000,S, 57, 0.0000,W, grid, , , ,
Point05,xy, 2010, 1432,in, deg, 11, 0.0000,S, 55, 30.0000,W, grid, , , ,
Point06,xy, 3952, 1445,in, deg, 11, 0.0000,S, 54, 0.0000,W, grid, , , ,
Point07,xy, 72, 2735,in, deg, 12, 0.0000,S, 57, 0.0000,W, grid, , , ,
Point08,xy, 2006, 2741,in, deg, 12, 0.0000,S, 55, 30.0000,W, grid, , , ,
Point09,xy, 3938, 2753,in, deg, 12, 0.0000,S, 54, 0.0000,W, grid, , , ,
Point10,xy, , ,in, deg, , ,, , ,, grid, , , ,
Point11,xy, , ,in, deg, , ,, , ,, grid, , , ,
Point12,xy, , ,in, deg, , ,, , ,, grid, , , ,
Point13,xy, , ,in, deg, , ,, , ,, grid, , , ,
Point14,xy, , ,in, deg, , ,, , ,, grid, , , ,
Point15,xy, , ,in, deg, , ,, , ,, grid, , , ,
Point16,xy, , ,in, deg, , ,, , ,, grid, , , ,
Point17,xy, , ,in, deg, , ,, , ,, grid, , , ,
Point18,xy, , ,in, deg, , ,, , ,, grid, , , ,
Point19,xy, , ,in, deg, , ,, , ,, grid, , , ,
Point20,xy, , ,in, deg, , ,, , ,, grid, , , ,
Point21,xy, , ,in, deg, , ,, , ,, grid, , , ,
Point22,xy, , ,in, deg, , ,, , ,, grid, , , ,
Point23,xy, , ,in, deg, , ,, , ,, grid, , , ,
Point24,xy, , ,in, deg, , ,, , ,, grid, , , ,
Point25,xy, , ,in, deg, , ,, , ,, grid, , , ,
Point26,xy, , ,in, deg, , ,, , ,, grid, , , ,
Point27,xy, , ,in, deg, , ,, , ,, grid, , , ,
Point28,xy, , ,in, deg, , ,, , ,, grid, , , ,
Point29,xy, , ,in, deg, , ,, , ,, grid, , , ,
Point30,xy, , ,in, deg, , ,, , ,, grid, , , ,
Projection Setup,,,,,,,,,,
Map Feature = MF ; Map Comment = MC These follow if they exist
Track File = TF These follow if they exist
Moving Map Parameters = MM? These follow if they exist
MM0,Yes
MMPNUM,4
MMPXY,1,0,0
MMPXY,2,4074,0
MMPXY,3,4042,3130
MMPXY,4,0,3109
MMPLL,1, -57.048819, -9.906972
MMPLL,2, -53.916584, -9.897216
MMPLL,3, -53.916375, -12.286903
MMPLL,4, -57.056659, -12.286332
MM1B,84.231350
MOP,Map Open Position,0,0
IWH,Map Image Width/Height,2500,1395
