OziExplorer Map Data File Version 2.2
C21B-PortuDusGauschus.png
sc21-3.png
1 ,Map Code,
Pulkovo 1942 (1),, 0.0000, 0.0000,WGS 84
Reserved 1
Reserved 2
Magnetic Variation,,,E
Map Projection,Latitude/Longitude,PolyCal,Yes,AutoCalOnly,No,BSBUseWPX,No
Point01,xy, 87, 118,in, deg, 10, 0.0000,S, 60, 0.0000,W, grid, , , ,
Point02,xy, 2033, 130,in, deg, 10, 0.0000,S, 58, 30.0000,W, grid, , , ,
Point03,xy, 3980, 142,in, deg, 10, 0.0000,S, 57, 0.0000,W, grid, , , ,
Point04,xy, 89, 1427,in, deg, 11, 0.0000,S, 60, 0.0000,W, grid, , , ,
Point05,xy, 2029, 1438,in, deg, 11, 0.0000,S, 58, 30.0000,W, grid, , , ,
Point06,xy, 3970, 1449,in, deg, 11, 0.0000,S, 57, 0.0000,W, grid, , , ,
Point07,xy, 91, 2736,in, deg, 12, 0.0000,S, 60, 0.0000,W, grid, , , ,
Point08,xy, 2024, 2743,in, deg, 12, 0.0000,S, 58, 30.0000,W, grid, , , ,
Point09,xy, 3959, 2755,in, deg, 12, 0.0000,S, 57, 0.0000,W, grid, , , ,
Point10,xy, , ,in, deg, , ,, , ,, grid, , , ,
Point11,xy, , ,in, deg, , ,, , ,, grid, , , ,
Point12,xy, , ,in, deg, , ,, , ,, grid, , , ,
Point13,xy, , ,in, deg, , ,, , ,, grid, , , ,
Point14,xy, , ,in, deg, , ,, , ,, grid, , , ,
Point15,xy, , ,in, deg, , ,, , ,, grid, , , ,
Point16,xy, , ,in, deg, , ,, , ,, grid, , , ,
Point17,xy, , ,in, deg, , ,, , ,, grid, , , ,
Point18,xy, , ,in, deg, , ,, , ,, grid, , , ,
Point19,xy, , ,in, deg, , ,, , ,, grid, , , ,
Point20,xy, , ,in, deg, , ,, , ,, grid, , , ,
Point21,xy, , ,in, deg, , ,, , ,, grid, , , ,
Point22,xy, , ,in, deg, , ,, , ,, grid, , , ,
Point23,xy, , ,in, deg, , ,, , ,, grid, , , ,
Point24,xy, , ,in, deg, , ,, , ,, grid, , , ,
Point25,xy, , ,in, deg, , ,, , ,, grid, , , ,
Point26,xy, , ,in, deg, , ,, , ,, grid, , , ,
Point27,xy, , ,in, deg, , ,, , ,, grid, , , ,
Point28,xy, , ,in, deg, , ,, , ,, grid, , , ,
Point29,xy, , ,in, deg, , ,, , ,, grid, , , ,
Point30,xy, , ,in, deg, , ,, , ,, grid, , , ,
Projection Setup,,,,,,,,,,
Map Feature = MF ; Map Comment = MC These follow if they exist
Track File = TF These follow if they exist
Moving Map Parameters = MM? These follow if they exist
MM0,Yes
MMPNUM,4
MMPXY,1,0,0
MMPXY,2,4082,1
MMPXY,3,4056,3134
MMPXY,4,0,3115
MMPLL,1, -60.066866, -9.910131
MMPLL,2, -56.922417, -9.891333
MMPLL,3, -56.922175, -12.290447
MMPLL,4, -60.070802, -12.290725
MM1B,84.401175
MOP,Map Open Position,0,0
IWH,Map Image Width/Height,2500,1395
