OziExplorer Map Data File Version 2.2
C21-b-SerraDoCachimbo.png
sc21-2.png
1 ,Map Code,
Pulkovo 1942 (1),, 0.0000, 0.0000,WGS 84
Reserved 1
Reserved 2
Magnetic Variation,,,E
Map Projection,Latitude/Longitude,PolyCal,Yes,AutoCalOnly,No,BSBUseWPX,No
Point01,xy, 76, 112,in, deg, 8, 0.0000,S, 57, 0.0000,W, grid, , , ,
Point02,xy, 2035, 110,in, deg, 8, 0.0000,S, 55, 30.0000,W, grid, , , ,
Point03,xy, 3992, 114,in, deg, 8, 0.0000,S, 54, 0.0000,W, grid, , , ,
Point04,xy, 83, 1418,in, deg, 9, 0.0000,S, 57, 0.0000,W, grid, , , ,
Point05,xy, 2034, 1417,in, deg, 9, 0.0000,S, 55, 30.0000,W, grid, , , ,
Point06,xy, 3987, 1422,in, deg, 9, 0.0000,S, 54, 0.0000,W, grid, , , ,
Point07,xy, 90, 2724,in, deg, 10, 0.0000,S, 57, 0.0000,W, grid, , , ,
Point08,xy, 2035, 2726,in, deg, 10, 0.0000,S, 55, 30.0000,W, grid, , , ,
Point09,xy, 3979, 2733,in, deg, 10, 0.0000,S, 54, 0.0000,W, grid, , , ,
Point10,xy, , ,in, deg, , ,, , ,, grid, , , ,
Point11,xy, , ,in, deg, , ,, , ,, grid, , , ,
Point12,xy, , ,in, deg, , ,, , ,, grid, , , ,
Point13,xy, , ,in, deg, , ,, , ,, grid, , , ,
Point14,xy, , ,in, deg, , ,, , ,, grid, , , ,
Point15,xy, , ,in, deg, , ,, , ,, grid, , , ,
Point16,xy, , ,in, deg, , ,, , ,, grid, , , ,
Point17,xy, , ,in, deg, , ,, , ,, grid, , , ,
Point18,xy, , ,in, deg, , ,, , ,, grid, , , ,
Point19,xy, , ,in, deg, , ,, , ,, grid, , , ,
Point20,xy, , ,in, deg, , ,, , ,, grid, , , ,
Point21,xy, , ,in, deg, , ,, , ,, grid, , , ,
Point22,xy, , ,in, deg, , ,, , ,, grid, , , ,
Point23,xy, , ,in, deg, , ,, , ,, grid, , , ,
Point24,xy, , ,in, deg, , ,, , ,, grid, , , ,
Point25,xy, , ,in, deg, , ,, , ,, grid, , , ,
Point26,xy, , ,in, deg, , ,, , ,, grid, , , ,
Point27,xy, , ,in, deg, , ,, , ,, grid, , , ,
Point28,xy, , ,in, deg, , ,, , ,, grid, , , ,
Point29,xy, , ,in, deg, , ,, , ,, grid, , , ,
Point30,xy, , ,in, deg, , ,, , ,, grid, , , ,
Projection Setup,,,,,,,,,,
Map Feature = MF ; Map Comment = MC These follow if they exist
Track File = TF These follow if they exist
Moving Map Parameters = MM? These follow if they exist
MM0,Yes
MMPNUM,4
MMPXY,1,0,0
MMPXY,2,4085,0
MMPXY,3,4068,3120
MMPXY,4,0,3110
MMPLL,1, -57.057730, -7.913831
MMPLL,2, -53.929592, -7.912838
MMPLL,3, -53.929964, -10.294813
MMPLL,4, -57.070856, -10.294795
MM1B,84.390137
MOP,Map Open Position,0,0
IWH,Map Image Width/Height,2500,1395
