OziExplorer Map Data File Version 2.2
C21A-Augustu.png
sc21-1.png
1 ,Map Code,
Pulkovo 1942 (1),, 0.0000, 0.0000,WGS 84
Reserved 1
Reserved 2
Magnetic Variation,,,E
Map Projection,Latitude/Longitude,PolyCal,Yes,AutoCalOnly,No,BSBUseWPX,No
Point01,xy, 66, 123,in, deg, 8, 0.0000,S, 60, 0.0000,W, grid, , , ,
Point02,xy, 2027, 121,in, deg, 8, 0.0000,S, 58, 30.0000,W, grid, , , ,
Point03,xy, 3985, 126,in, deg, 8, 0.0000,S, 57, 0.0000,W, grid, , , ,
Point04,xy, 76, 1430,in, deg, 9, 0.0000,S, 60, 0.0000,W, grid, , , ,
Point05,xy, 2028, 1430,in, deg, 9, 0.0000,S, 58, 30.0000,W, grid, , , ,
Point06,xy, 3981, 1429,in, deg, 9, 0.0000,S, 57, 0.0000,W, grid, , , ,
Point07,xy, 84, 2738,in, deg, 10, 0.0000,S, 60, 0.0000,W, grid, , , ,
Point08,xy, 2031, 2736,in, deg, 10, 0.0000,S, 58, 30.0000,W, grid, , , ,
Point09,xy, 3979, 2734,in, deg, 10, 0.0000,S, 57, 0.0000,W, grid, , , ,
Point10,xy, , ,in, deg, , ,, , ,, grid, , , ,
Point11,xy, , ,in, deg, , ,, , ,, grid, , , ,
Point12,xy, , ,in, deg, , ,, , ,, grid, , , ,
Point13,xy, , ,in, deg, , ,, , ,, grid, , , ,
Point14,xy, , ,in, deg, , ,, , ,, grid, , , ,
Point15,xy, , ,in, deg, , ,, , ,, grid, , , ,
Point16,xy, , ,in, deg, , ,, , ,, grid, , , ,
Point17,xy, , ,in, deg, , ,, , ,, grid, , , ,
Point18,xy, , ,in, deg, , ,, , ,, grid, , , ,
Point19,xy, , ,in, deg, , ,, , ,, grid, , , ,
Point20,xy, , ,in, deg, , ,, , ,, grid, , , ,
Point21,xy, , ,in, deg, , ,, , ,, grid, , , ,
Point22,xy, , ,in, deg, , ,, , ,, grid, , , ,
Point23,xy, , ,in, deg, , ,, , ,, grid, , , ,
Point24,xy, , ,in, deg, , ,, , ,, grid, , , ,
Point25,xy, , ,in, deg, , ,, , ,, grid, , , ,
Point26,xy, , ,in, deg, , ,, , ,, grid, , , ,
Point27,xy, , ,in, deg, , ,, , ,, grid, , , ,
Point28,xy, , ,in, deg, , ,, , ,, grid, , , ,
Point29,xy, , ,in, deg, , ,, , ,, grid, , , ,
Point30,xy, , ,in, deg, , ,, , ,, grid, , , ,
Projection Setup,,,,,,,,,,
Map Feature = MF ; Map Comment = MC These follow if they exist
Track File = TF These follow if they exist
Moving Map Parameters = MM? These follow if they exist
MM0,Yes
MMPNUM,4
MMPXY,1,0,0
MMPXY,2,4071,0
MMPXY,3,4063,3101
MMPXY,4,1,3106
MMPLL,1, -60.050534, -7.906531
MMPLL,2, -56.934545, -7.903999
MMPLL,3, -56.934237, -10.281142
MMPLL,4, -60.066110, -10.280853
MM1B,84.240572
MOP,Map Open Position,0,0
IWH,Map Image Width/Height,2500,1395
