OziExplorer Map Data File Version 2.2
C20r-Rondonia.png
sc20-4.png
1 ,Map Code,
Pulkovo 1942 (1),, 0.0000, 0.0000,WGS 84
Reserved 1
Reserved 2
Magnetic Variation,,,E
Map Projection,Latitude/Longitude,PolyCal,Yes,AutoCalOnly,No,BSBUseWPX,No
Point01,xy, 80, 124,in, deg, 10, 0.0000,S, 63, 0.0000,W, grid, , , ,
Point02,xy, 2027, 131,in, deg, 10, 0.0000,S, 61, 30.0000,W, grid, , , ,
Point03,xy, 3969, 150,in, deg, 10, 0.0000,S, 60, 0.0000,W, grid, , , ,
Point04,xy, 81, 1429,in, deg, 11, 0.0000,S, 63, 0.0000,W, grid, , , ,
Point05,xy, 2016, 1439,in, deg, 11, 0.0000,S, 61, 30.0000,W, grid, , , ,
Point06,xy, 3955, 1459,in, deg, 11, 0.0000,S, 60, 0.0000,W, grid, , , ,
Point07,xy, 81, 2734,in, deg, 12, 0.0000,S, 63, 0.0000,W, grid, , , ,
Point08,xy, 2008, 2747,in, deg, 12, 0.0000,S, 61, 30.0000,W, grid, , , ,
Point09,xy, 3941, 2767,in, deg, 12, 0.0000,S, 60, 0.0000,W, grid, , , ,
Point10,xy, , ,in, deg, , ,, , ,, grid, , , ,
Point11,xy, , ,in, deg, , ,, , ,, grid, , , ,
Point12,xy, , ,in, deg, , ,, , ,, grid, , , ,
Point13,xy, , ,in, deg, , ,, , ,, grid, , , ,
Point14,xy, , ,in, deg, , ,, , ,, grid, , , ,
Point15,xy, , ,in, deg, , ,, , ,, grid, , , ,
Point16,xy, , ,in, deg, , ,, , ,, grid, , , ,
Point17,xy, , ,in, deg, , ,, , ,, grid, , , ,
Point18,xy, , ,in, deg, , ,, , ,, grid, , , ,
Point19,xy, , ,in, deg, , ,, , ,, grid, , , ,
Point20,xy, , ,in, deg, , ,, , ,, grid, , , ,
Point21,xy, , ,in, deg, , ,, , ,, grid, , , ,
Point22,xy, , ,in, deg, , ,, , ,, grid, , , ,
Point23,xy, , ,in, deg, , ,, , ,, grid, , , ,
Point24,xy, , ,in, deg, , ,, , ,, grid, , , ,
Point25,xy, , ,in, deg, , ,, , ,, grid, , , ,
Point26,xy, , ,in, deg, , ,, , ,, grid, , , ,
Point27,xy, , ,in, deg, , ,, , ,, grid, , , ,
Point28,xy, , ,in, deg, , ,, , ,, grid, , , ,
Point29,xy, , ,in, deg, , ,, , ,, grid, , , ,
Point30,xy, , ,in, deg, , ,, , ,, grid, , , ,
Projection Setup,,,,,,,,,,
Map Feature = MF ; Map Comment = MC These follow if they exist
Track File = TF These follow if they exist
Moving Map Parameters = MM? These follow if they exist
MM0,Yes
MMPNUM,4
MMPXY,1,0,0
MMPXY,2,4069,0
MMPXY,3,4033,3149
MMPXY,4,0,3114
MMPLL,1, -63.062751, -9.905496
MMPLL,2, -59.925135, -9.884797
MMPLL,3, -59.924657, -12.290490
MMPLL,4, -63.062662, -12.291135
MM1B,84.613964
MOP,Map Open Position,0,0
IWH,Map Image Width/Height,2500,1395
