OziExplorer Map Data File Version 2.2
C20B-GuascharaNirin.png
sc20-3.png
1 ,Map Code,
Pulkovo 1942 (1),, 0.0000, 0.0000,WGS 84
Reserved 1
Reserved 2
Magnetic Variation,,,E
Map Projection,Latitude/Longitude,PolyCal,Yes,AutoCalOnly,No,BSBUseWPX,No
Point01,xy, 89, 130,in, deg, 10, 0.0000,S, 66, 0.0000,W, grid, , , ,
Point02,xy, 2032, 136,in, deg, 10, 0.0000,S, 64, 30.0000,W, grid, , , ,
Point03,xy, 3978, 141,in, deg, 10, 0.0000,S, 63, 0.0000,W, grid, , , ,
Point04,xy, 97, 1437,in, deg, 11, 0.0000,S, 66, 0.0000,W, grid, , , ,
Point05,xy, 2033, 1442,in, deg, 11, 0.0000,S, 64, 30.0000,W, grid, , , ,
Point06,xy, 3973, 1448,in, deg, 11, 0.0000,S, 63, 0.0000,W, grid, , , ,
Point07,xy, 103, 2744,in, deg, 12, 0.0000,S, 66, 0.0000,W, grid, , , ,
Point08,xy, 2034, 2746,in, deg, 12, 0.0000,S, 64, 30.0000,W, grid, , , ,
Point09,xy, 3965, 2753,in, deg, 12, 0.0000,S, 63, 0.0000,W, grid, , , ,
Point10,xy, , ,in, deg, , ,, , ,, grid, , , ,
Point11,xy, , ,in, deg, , ,, , ,, grid, , , ,
Point12,xy, , ,in, deg, , ,, , ,, grid, , , ,
Point13,xy, , ,in, deg, , ,, , ,, grid, , , ,
Point14,xy, , ,in, deg, , ,, , ,, grid, , , ,
Point15,xy, , ,in, deg, , ,, , ,, grid, , , ,
Point16,xy, , ,in, deg, , ,, , ,, grid, , , ,
Point17,xy, , ,in, deg, , ,, , ,, grid, , , ,
Point18,xy, , ,in, deg, , ,, , ,, grid, , , ,
Point19,xy, , ,in, deg, , ,, , ,, grid, , , ,
Point20,xy, , ,in, deg, , ,, , ,, grid, , , ,
Point21,xy, , ,in, deg, , ,, , ,, grid, , , ,
Point22,xy, , ,in, deg, , ,, , ,, grid, , , ,
Point23,xy, , ,in, deg, , ,, , ,, grid, , , ,
Point24,xy, , ,in, deg, , ,, , ,, grid, , , ,
Point25,xy, , ,in, deg, , ,, , ,, grid, , , ,
Point26,xy, , ,in, deg, , ,, , ,, grid, , , ,
Point27,xy, , ,in, deg, , ,, , ,, grid, , , ,
Point28,xy, , ,in, deg, , ,, , ,, grid, , , ,
Point29,xy, , ,in, deg, , ,, , ,, grid, , , ,
Point30,xy, , ,in, deg, , ,, , ,, grid, , , ,
Projection Setup,,,,,,,,,,
Map Feature = MF ; Map Comment = MC These follow if they exist
Track File = TF These follow if they exist
Moving Map Parameters = MM? These follow if they exist
MM0,Yes
MMPNUM,4
MMPXY,1,0,0
MMPXY,2,4055,1
MMPXY,3,4039,3141
MMPXY,4,1,3131
MMPLL,1, -66.067872, -9.900530
MMPLL,2, -62.941051, -9.892186
MMPLL,3, -62.941010, -12.297664
MMPLL,4, -66.080884, -12.297228
MM1B,84.528194
MOP,Map Open Position,0,0
IWH,Map Image Width/Height,2500,1395
