OziExplorer Map Data File Version 2.2
C20-b-Arpuanah.png
sc20-2.png
1 ,Map Code,
Pulkovo 1942 (1),, 0.0000, 0.0000,WGS 84
Reserved 1
Reserved 2
Magnetic Variation,,,E
Map Projection,Latitude/Longitude,PolyCal,Yes,AutoCalOnly,No,BSBUseWPX,No
Point01,xy, 67, 114,in, deg, 8, 0.0000,S, 63, 0.0000,W, grid, , , ,
Point02,xy, 2026, 118,in, deg, 8, 0.0000,S, 61, 30.0000,W, grid, , , ,
Point03,xy, 3983, 128,in, deg, 8, 0.0000,S, 60, 0.0000,W, grid, , , ,
Point04,xy, 70, 1423,in, deg, 9, 0.0000,S, 63, 0.0000,W, grid, , , ,
Point05,xy, 2022, 1429,in, deg, 9, 0.0000,S, 61, 30.0000,W, grid, , , ,
Point06,xy, 3976, 1434,in, deg, 9, 0.0000,S, 60, 0.0000,W, grid, , , ,
Point07,xy, 77, 2729,in, deg, 10, 0.0000,S, 63, 0.0000,W, grid, , , ,
Point08,xy, 2019, 2736,in, deg, 10, 0.0000,S, 61, 30.0000,W, grid, , , ,
Point09,xy, 3966, 2743,in, deg, 10, 0.0000,S, 60, 0.0000,W, grid, , , ,
Point10,xy, , ,in, deg, , ,, , ,, grid, , , ,
Point11,xy, , ,in, deg, , ,, , ,, grid, , , ,
Point12,xy, , ,in, deg, , ,, , ,, grid, , , ,
Point13,xy, , ,in, deg, , ,, , ,, grid, , , ,
Point14,xy, , ,in, deg, , ,, , ,, grid, , , ,
Point15,xy, , ,in, deg, , ,, , ,, grid, , , ,
Point16,xy, , ,in, deg, , ,, , ,, grid, , , ,
Point17,xy, , ,in, deg, , ,, , ,, grid, , , ,
Point18,xy, , ,in, deg, , ,, , ,, grid, , , ,
Point19,xy, , ,in, deg, , ,, , ,, grid, , , ,
Point20,xy, , ,in, deg, , ,, , ,, grid, , , ,
Point21,xy, , ,in, deg, , ,, , ,, grid, , , ,
Point22,xy, , ,in, deg, , ,, , ,, grid, , , ,
Point23,xy, , ,in, deg, , ,, , ,, grid, , , ,
Point24,xy, , ,in, deg, , ,, , ,, grid, , , ,
Point25,xy, , ,in, deg, , ,, , ,, grid, , , ,
Point26,xy, , ,in, deg, , ,, , ,, grid, , , ,
Point27,xy, , ,in, deg, , ,, , ,, grid, , , ,
Point28,xy, , ,in, deg, , ,, , ,, grid, , , ,
Point29,xy, , ,in, deg, , ,, , ,, grid, , , ,
Point30,xy, , ,in, deg, , ,, , ,, grid, , , ,
Projection Setup,,,,,,,,,,
Map Feature = MF ; Map Comment = MC These follow if they exist
Track File = TF These follow if they exist
Moving Map Parameters = MM? These follow if they exist
MM0,Yes
MMPNUM,4
MMPXY,1,0,0
MMPXY,2,4075,0
MMPXY,3,4053,3113
MMPXY,4,0,3100
MMPLL,1, -63.051116, -7.913231
MMPLL,2, -59.931266, -7.902891
MMPLL,3, -59.931105, -10.283086
MMPLL,4, -63.059745, -10.283521
MM1B,84.462287
MOP,Map Open Position,0,0
IWH,Map Image Width/Height,2500,1395
