OziExplorer Map Data File Version 2.2
C20A-PortuWelijo.png
sc20-1.png
1 ,Map Code,
Pulkovo 1942 (1),, 0.0000, 0.0000,WGS 84
Reserved 1
Reserved 2
Magnetic Variation,,,E
Map Projection,Latitude/Longitude,PolyCal,Yes,AutoCalOnly,No,BSBUseWPX,No
Point01,xy, 78, 137,in, deg, 8, 0.0000,S, 66, 0.0000,W, grid, , , ,
Point02,xy, 2035, 149,in, deg, 8, 0.0000,S, 64, 30.0000,W, grid, , , ,
Point03,xy, 3990, 159,in, deg, 8, 0.0000,S, 63, 0.0000,W, grid, , , ,
Point04,xy, 77, 1446,in, deg, 9, 0.0000,S, 66, 0.0000,W, grid, , , ,
Point05,xy, 2031, 1454,in, deg, 9, 0.0000,S, 64, 30.0000,W, grid, , , ,
Point06,xy, 3982, 1465,in, deg, 9, 0.0000,S, 63, 0.0000,W, grid, , , ,
Point07,xy, 85, 2754,in, deg, 10, 0.0000,S, 66, 0.0000,W, grid, , , ,
Point08,xy, 2027, 2758,in, deg, 10, 0.0000,S, 64, 30.0000,W, grid, , , ,
Point09,xy, 3974, 2771,in, deg, 10, 0.0000,S, 63, 0.0000,W, grid, , , ,
Point10,xy, , ,in, deg, , ,, , ,, grid, , , ,
Point11,xy, , ,in, deg, , ,, , ,, grid, , , ,
Point12,xy, , ,in, deg, , ,, , ,, grid, , , ,
Point13,xy, , ,in, deg, , ,, , ,, grid, , , ,
Point14,xy, , ,in, deg, , ,, , ,, grid, , , ,
Point15,xy, , ,in, deg, , ,, , ,, grid, , , ,
Point16,xy, , ,in, deg, , ,, , ,, grid, , , ,
Point17,xy, , ,in, deg, , ,, , ,, grid, , , ,
Point18,xy, , ,in, deg, , ,, , ,, grid, , , ,
Point19,xy, , ,in, deg, , ,, , ,, grid, , , ,
Point20,xy, , ,in, deg, , ,, , ,, grid, , , ,
Point21,xy, , ,in, deg, , ,, , ,, grid, , , ,
Point22,xy, , ,in, deg, , ,, , ,, grid, , , ,
Point23,xy, , ,in, deg, , ,, , ,, grid, , , ,
Point24,xy, , ,in, deg, , ,, , ,, grid, , , ,
Point25,xy, , ,in, deg, , ,, , ,, grid, , , ,
Point26,xy, , ,in, deg, , ,, , ,, grid, , , ,
Point27,xy, , ,in, deg, , ,, , ,, grid, , , ,
Point28,xy, , ,in, deg, , ,, , ,, grid, , , ,
Point29,xy, , ,in, deg, , ,, , ,, grid, , , ,
Point30,xy, , ,in, deg, , ,, , ,, grid, , , ,
Projection Setup,,,,,,,,,,
Map Feature = MF ; Map Comment = MC These follow if they exist
Track File = TF These follow if they exist
Moving Map Parameters = MM? These follow if they exist
MM0,Yes
MMPNUM,4
MMPXY,1,0,0
MMPXY,2,4084,1
MMPXY,3,4063,3151
MMPXY,4,0,3134
MMPLL,1, -66.059475, -7.894771
MMPLL,2, -62.929899, -7.877865
MMPLL,3, -62.930089, -10.291718
MMPLL,4, -66.065809, -10.291597
MM1B,84.359771
MOP,Map Open Position,0,0
IWH,Map Image Width/Height,2500,1395
