OziExplorer Map Data File Version 2.2
C19r-Kobicha.png
sc19-4.png
1 ,Map Code,
Pulkovo 1942 (1),, 0.0000, 0.0000,WGS 84
Reserved 1
Reserved 2
Magnetic Variation,,,E
Map Projection,Latitude/Longitude,PolyCal,Yes,AutoCalOnly,No,BSBUseWPX,No
Point01,xy, 69, 118,in, deg, 10, 0.0000,S, 69, 0.0000,W, grid, , , ,
Point02,xy, 2018, 117,in, deg, 10, 0.0000,S, 67, 30.0000,W, grid, , , ,
Point03,xy, 3965, 117,in, deg, 10, 0.0000,S, 66, 0.0000,W, grid, , , ,
Point04,xy, 78, 1427,in, deg, 11, 0.0000,S, 69, 0.0000,W, grid, , , ,
Point05,xy, 2021, 1426,in, deg, 11, 0.0000,S, 67, 30.0000,W, grid, , , ,
Point06,xy, 3962, 1427,in, deg, 11, 0.0000,S, 66, 0.0000,W, grid, , , ,
Point07,xy, 85, 2736,in, deg, 12, 0.0000,S, 69, 0.0000,W, grid, , , ,
Point08,xy, 2022, 2732,in, deg, 12, 0.0000,S, 67, 30.0000,W, grid, , , ,
Point09,xy, 3960, 2736,in, deg, 12, 0.0000,S, 66, 0.0000,W, grid, , , ,
Point10,xy, , ,in, deg, , ,, , ,, grid, , , ,
Point11,xy, , ,in, deg, , ,, , ,, grid, , , ,
Point12,xy, , ,in, deg, , ,, , ,, grid, , , ,
Point13,xy, , ,in, deg, , ,, , ,, grid, , , ,
Point14,xy, , ,in, deg, , ,, , ,, grid, , , ,
Point15,xy, , ,in, deg, , ,, , ,, grid, , , ,
Point16,xy, , ,in, deg, , ,, , ,, grid, , , ,
Point17,xy, , ,in, deg, , ,, , ,, grid, , , ,
Point18,xy, , ,in, deg, , ,, , ,, grid, , , ,
Point19,xy, , ,in, deg, , ,, , ,, grid, , , ,
Point20,xy, , ,in, deg, , ,, , ,, grid, , , ,
Point21,xy, , ,in, deg, , ,, , ,, grid, , , ,
Point22,xy, , ,in, deg, , ,, , ,, grid, , , ,
Point23,xy, , ,in, deg, , ,, , ,, grid, , , ,
Point24,xy, , ,in, deg, , ,, , ,, grid, , , ,
Point25,xy, , ,in, deg, , ,, , ,, grid, , , ,
Point26,xy, , ,in, deg, , ,, , ,, grid, , , ,
Point27,xy, , ,in, deg, , ,, , ,, grid, , , ,
Point28,xy, , ,in, deg, , ,, , ,, grid, , , ,
Point29,xy, , ,in, deg, , ,, , ,, grid, , , ,
Point30,xy, , ,in, deg, , ,, , ,, grid, , , ,
Projection Setup,,,,,,,,,,
Map Feature = MF ; Map Comment = MC These follow if they exist
Track File = TF These follow if they exist
Moving Map Parameters = MM? These follow if they exist
MM0,Yes
MMPNUM,4
MMPXY,1,0,0
MMPXY,2,4044,0
MMPXY,3,4037,3103
MMPXY,4,0,3103
MMPLL,1, -69.052806, -9.909523
MMPLL,2, -65.939197, -9.910203
MMPLL,3, -65.939002, -12.281078
MMPLL,4, -69.067206, -12.281311
MM1B,84.361949
MOP,Map Open Position,0,0
IWH,Map Image Width/Height,2500,1395
