OziExplorer Map Data File Version 2.2
C19B-Iberia.png
sc19-3.png
1 ,Map Code,
Pulkovo 1942 (1),, 0.0000, 0.0000,WGS 84
Reserved 1
Reserved 2
Magnetic Variation,,,E
Map Projection,Latitude/Longitude,PolyCal,Yes,AutoCalOnly,No,BSBUseWPX,No
Point01,xy, 69, 151,in, deg, 10, 0.0000,S, 72, 0.0000,W, grid, , , ,
Point02,xy, 2013, 154,in, deg, 10, 0.0000,S, 70, 30.0000,W, grid, , , ,
Point03,xy, 3957, 156,in, deg, 10, 0.0000,S, 69, 0.0000,W, grid, , , ,
Point04,xy, 79, 1460,in, deg, 11, 0.0000,S, 72, 0.0000,W, grid, , , ,
Point05,xy, 2014, 1461,in, deg, 11, 0.0000,S, 70, 30.0000,W, grid, , , ,
Point06,xy, 3954, 1464,in, deg, 11, 0.0000,S, 69, 0.0000,W, grid, , , ,
Point07,xy, 87, 2767,in, deg, 12, 0.0000,S, 72, 0.0000,W, grid, , , ,
Point08,xy, 2014, 2766,in, deg, 12, 0.0000,S, 70, 30.0000,W, grid, , , ,
Point09,xy, 3948, 2772,in, deg, 12, 0.0000,S, 69, 0.0000,W, grid, , , ,
Point10,xy, , ,in, deg, , ,, , ,, grid, , , ,
Point11,xy, , ,in, deg, , ,, , ,, grid, , , ,
Point12,xy, , ,in, deg, , ,, , ,, grid, , , ,
Point13,xy, , ,in, deg, , ,, , ,, grid, , , ,
Point14,xy, , ,in, deg, , ,, , ,, grid, , , ,
Point15,xy, , ,in, deg, , ,, , ,, grid, , , ,
Point16,xy, , ,in, deg, , ,, , ,, grid, , , ,
Point17,xy, , ,in, deg, , ,, , ,, grid, , , ,
Point18,xy, , ,in, deg, , ,, , ,, grid, , , ,
Point19,xy, , ,in, deg, , ,, , ,, grid, , , ,
Point20,xy, , ,in, deg, , ,, , ,, grid, , , ,
Point21,xy, , ,in, deg, , ,, , ,, grid, , , ,
Point22,xy, , ,in, deg, , ,, , ,, grid, , , ,
Point23,xy, , ,in, deg, , ,, , ,, grid, , , ,
Point24,xy, , ,in, deg, , ,, , ,, grid, , , ,
Point25,xy, , ,in, deg, , ,, , ,, grid, , , ,
Point26,xy, , ,in, deg, , ,, , ,, grid, , , ,
Point27,xy, , ,in, deg, , ,, , ,, grid, , , ,
Point28,xy, , ,in, deg, , ,, , ,, grid, , , ,
Point29,xy, , ,in, deg, , ,, , ,, grid, , , ,
Point30,xy, , ,in, deg, , ,, , ,, grid, , , ,
Projection Setup,,,,,,,,,,
Map Feature = MF ; Map Comment = MC These follow if they exist
Track File = TF These follow if they exist
Moving Map Parameters = MM? These follow if they exist
MM0,Yes
MMPNUM,4
MMPXY,1,0,0
MMPXY,2,4034,1
MMPXY,3,4021,3139
MMPXY,4,0,3134
MMPLL,1, -72.052835, -9.884018
MMPLL,2, -68.941586, -9.881076
MMPLL,3, -68.941412, -12.281581
MMPLL,4, -72.068698, -12.281463
MM1B,84.618189
MOP,Map Open Position,0,0
IWH,Map Image Width/Height,2500,1395
