OziExplorer Map Data File Version 2.2
C19-b-RiuBranku.png
sc19-2.png
1 ,Map Code,
Pulkovo 1942 (1),, 0.0000, 0.0000,WGS 84
Reserved 1
Reserved 2
Magnetic Variation,,,E
Map Projection,Latitude/Longitude,PolyCal,Yes,AutoCalOnly,No,BSBUseWPX,No
Point01,xy, 77, 121,in, deg, 8, 0.0000,S, 69, 0.0000,W, grid, , , ,
Point02,xy, 2036, 123,in, deg, 8, 0.0000,S, 67, 30.0000,W, grid, , , ,
Point03,xy, 3995, 122,in, deg, 8, 0.0000,S, 66, 0.0000,W, grid, , , ,
Point04,xy, 88, 1427,in, deg, 9, 0.0000,S, 69, 0.0000,W, grid, , , ,
Point05,xy, 2040, 1429,in, deg, 9, 0.0000,S, 67, 30.0000,W, grid, , , ,
Point06,xy, 3994, 1430,in, deg, 9, 0.0000,S, 66, 0.0000,W, grid, , , ,
Point07,xy, 97, 2738,in, deg, 10, 0.0000,S, 69, 0.0000,W, grid, , , ,
Point08,xy, 2043, 2735,in, deg, 10, 0.0000,S, 67, 30.0000,W, grid, , , ,
Point09,xy, 3993, 2740,in, deg, 10, 0.0000,S, 66, 0.0000,W, grid, , , ,
Point10,xy, , ,in, deg, , ,, , ,, grid, , , ,
Point11,xy, , ,in, deg, , ,, , ,, grid, , , ,
Point12,xy, , ,in, deg, , ,, , ,, grid, , , ,
Point13,xy, , ,in, deg, , ,, , ,, grid, , , ,
Point14,xy, , ,in, deg, , ,, , ,, grid, , , ,
Point15,xy, , ,in, deg, , ,, , ,, grid, , , ,
Point16,xy, , ,in, deg, , ,, , ,, grid, , , ,
Point17,xy, , ,in, deg, , ,, , ,, grid, , , ,
Point18,xy, , ,in, deg, , ,, , ,, grid, , , ,
Point19,xy, , ,in, deg, , ,, , ,, grid, , , ,
Point20,xy, , ,in, deg, , ,, , ,, grid, , , ,
Point21,xy, , ,in, deg, , ,, , ,, grid, , , ,
Point22,xy, , ,in, deg, , ,, , ,, grid, , , ,
Point23,xy, , ,in, deg, , ,, , ,, grid, , , ,
Point24,xy, , ,in, deg, , ,, , ,, grid, , , ,
Point25,xy, , ,in, deg, , ,, , ,, grid, , , ,
Point26,xy, , ,in, deg, , ,, , ,, grid, , , ,
Point27,xy, , ,in, deg, , ,, , ,, grid, , , ,
Point28,xy, , ,in, deg, , ,, , ,, grid, , , ,
Point29,xy, , ,in, deg, , ,, , ,, grid, , , ,
Point30,xy, , ,in, deg, , ,, , ,, grid, , , ,
Projection Setup,,,,,,,,,,
Map Feature = MF ; Map Comment = MC These follow if they exist
Track File = TF These follow if they exist
Moving Map Parameters = MM? These follow if they exist
MM0,Yes
MMPNUM,4
MMPXY,1,0,0
MMPXY,2,4076,1
MMPXY,3,4072,3110
MMPXY,4,0,3107
MMPLL,1, -69.058629, -7.906909
MMPLL,2, -65.938202, -7.906515
MMPLL,3, -65.938254, -10.282855
MMPLL,4, -69.076568, -10.282663
MM1B,84.469753
MOP,Map Open Position,0,0
IWH,Map Image Width/Height,2500,1395
