OziExplorer Map Data File Version 2.2
C19A-Feisho.png
sc19-1.png
1 ,Map Code,
Pulkovo 1942 (1),, 0.0000, 0.0000,WGS 84
Reserved 1
Reserved 2
Magnetic Variation,,,E
Map Projection,Latitude/Longitude,PolyCal,Yes,AutoCalOnly,No,BSBUseWPX,No
Point01,xy, 75, 128,in, deg, 8, 0.0000,S, 72, 0.0000,W, grid, , , ,
Point02,xy, 2031, 146,in, deg, 8, 0.0000,S, 70, 30.0000,W, grid, , , ,
Point03,xy, 3985, 156,in, deg, 8, 0.0000,S, 69, 0.0000,W, grid, , , ,
Point04,xy, 73, 1441,in, deg, 9, 0.0000,S, 72, 0.0000,W, grid, , , ,
Point05,xy, 2024, 1455,in, deg, 9, 0.0000,S, 70, 30.0000,W, grid, , , ,
Point06,xy, 3974, 1465,in, deg, 9, 0.0000,S, 69, 0.0000,W, grid, , , ,
Point07,xy, 75, 2751,in, deg, 10, 0.0000,S, 72, 0.0000,W, grid, , , ,
Point08,xy, 2018, 2759,in, deg, 10, 0.0000,S, 70, 30.0000,W, grid, , , ,
Point09,xy, 3960, 2773,in, deg, 10, 0.0000,S, 69, 0.0000,W, grid, , , ,
Point10,xy, , ,in, deg, , ,, , ,, grid, , , ,
Point11,xy, , ,in, deg, , ,, , ,, grid, , , ,
Point12,xy, , ,in, deg, , ,, , ,, grid, , , ,
Point13,xy, , ,in, deg, , ,, , ,, grid, , , ,
Point14,xy, , ,in, deg, , ,, , ,, grid, , , ,
Point15,xy, , ,in, deg, , ,, , ,, grid, , , ,
Point16,xy, , ,in, deg, , ,, , ,, grid, , , ,
Point17,xy, , ,in, deg, , ,, , ,, grid, , , ,
Point18,xy, , ,in, deg, , ,, , ,, grid, , , ,
Point19,xy, , ,in, deg, , ,, , ,, grid, , , ,
Point20,xy, , ,in, deg, , ,, , ,, grid, , , ,
Point21,xy, , ,in, deg, , ,, , ,, grid, , , ,
Point22,xy, , ,in, deg, , ,, , ,, grid, , , ,
Point23,xy, , ,in, deg, , ,, , ,, grid, , , ,
Point24,xy, , ,in, deg, , ,, , ,, grid, , , ,
Point25,xy, , ,in, deg, , ,, , ,, grid, , , ,
Point26,xy, , ,in, deg, , ,, , ,, grid, , , ,
Point27,xy, , ,in, deg, , ,, , ,, grid, , , ,
Point28,xy, , ,in, deg, , ,, , ,, grid, , , ,
Point29,xy, , ,in, deg, , ,, , ,, grid, , , ,
Point30,xy, , ,in, deg, , ,, , ,, grid, , , ,
Projection Setup,,,,,,,,,,
Map Feature = MF ; Map Comment = MC These follow if they exist
Track File = TF These follow if they exist
Moving Map Parameters = MM? These follow if they exist
MM0,Yes
MMPNUM,4
MMPXY,1,0,0
MMPXY,2,4098,1
MMPXY,3,4066,3151
MMPXY,4,0,3129
MMPLL,1, -72.057167, -7.902126
MMPLL,2, -68.915048, -7.880573
MMPLL,3, -68.915788, -10.290691
MMPLL,4, -72.057571, -10.290493
MM1B,84.353306
MOP,Map Open Position,0,0
IWH,Map Image Width/Height,2500,1395
