OziExplorer Map Data File Version 2.2
C18r-Andeimarka.png
sc18-4.png
1 ,Map Code,
Pulkovo 1942 (1),, 0.0000, 0.0000,WGS 84
Reserved 1
Reserved 2
Magnetic Variation,,,E
Map Projection,Latitude/Longitude,PolyCal,Yes,AutoCalOnly,No,BSBUseWPX,No
Point01,xy, 85, 142,in, deg, 10, 0.0000,S, 75, 0.0000,W, grid, , , ,
Point02,xy, 2030, 165,in, deg, 10, 0.0000,S, 73, 30.0000,W, grid, , , ,
Point03,xy, 3977, 184,in, deg, 10, 0.0000,S, 72, 0.0000,W, grid, , , ,
Point04,xy, 78, 1446,in, deg, 11, 0.0000,S, 75, 0.0000,W, grid, , , ,
Point05,xy, 2017, 1468,in, deg, 11, 0.0000,S, 73, 30.0000,W, grid, , , ,
Point06,xy, 3957, 1493,in, deg, 11, 0.0000,S, 72, 0.0000,W, grid, , , ,
Point07,xy, 69, 2754,in, deg, 12, 0.0000,S, 75, 0.0000,W, grid, , , ,
Point08,xy, 2001, 2772,in, deg, 12, 0.0000,S, 73, 30.0000,W, grid, , , ,
Point09,xy, 3933, 2799,in, deg, 12, 0.0000,S, 72, 0.0000,W, grid, , , ,
Point10,xy, , ,in, deg, , ,, , ,, grid, , , ,
Point11,xy, , ,in, deg, , ,, , ,, grid, , , ,
Point12,xy, , ,in, deg, , ,, , ,, grid, , , ,
Point13,xy, , ,in, deg, , ,, , ,, grid, , , ,
Point14,xy, , ,in, deg, , ,, , ,, grid, , , ,
Point15,xy, , ,in, deg, , ,, , ,, grid, , , ,
Point16,xy, , ,in, deg, , ,, , ,, grid, , , ,
Point17,xy, , ,in, deg, , ,, , ,, grid, , , ,
Point18,xy, , ,in, deg, , ,, , ,, grid, , , ,
Point19,xy, , ,in, deg, , ,, , ,, grid, , , ,
Point20,xy, , ,in, deg, , ,, , ,, grid, , , ,
Point21,xy, , ,in, deg, , ,, , ,, grid, , , ,
Point22,xy, , ,in, deg, , ,, , ,, grid, , , ,
Point23,xy, , ,in, deg, , ,, , ,, grid, , , ,
Point24,xy, , ,in, deg, , ,, , ,, grid, , , ,
Point25,xy, , ,in, deg, , ,, , ,, grid, , , ,
Point26,xy, , ,in, deg, , ,, , ,, grid, , , ,
Point27,xy, , ,in, deg, , ,, , ,, grid, , , ,
Point28,xy, , ,in, deg, , ,, , ,, grid, , , ,
Point29,xy, , ,in, deg, , ,, , ,, grid, , , ,
Point30,xy, , ,in, deg, , ,, , ,, grid, , , ,
Projection Setup,,,,,,,,,,
Map Feature = MF ; Map Comment = MC These follow if they exist
Track File = TF These follow if they exist
Moving Map Parameters = MM? These follow if they exist
MM0,Yes
MMPNUM,4
MMPXY,1,0,0
MMPXY,2,4095,3
MMPXY,3,4039,3230
MMPXY,4,0,3181
MMPLL,1, -75.065656, -9.891348
MMPLL,2, -71.911168, -9.858981
MMPLL,3, -71.911443, -12.328898
MMPLL,4, -75.050763, -12.328819
MM1B,84.506852
MOP,Map Open Position,0,0
IWH,Map Image Width/Height,2500,1395
