OziExplorer Map Data File Version 2.2
C18B-SeDePasko.png
sc18-3.png
1 ,Map Code,
Pulkovo 1942 (1),, 0.0000, 0.0000,WGS 84
Reserved 1
Reserved 2
Magnetic Variation,,,E
Map Projection,Latitude/Longitude,PolyCal,Yes,AutoCalOnly,No,BSBUseWPX,No
Point01,xy, 63, 113,in, deg, 10, 0.0000,S, 78, 0.0000,W, grid, , , ,
Point02,xy, 2009, 126,in, deg, 10, 0.0000,S, 76, 30.0000,W, grid, , , ,
Point03,xy, 3954, 146,in, deg, 10, 0.0000,S, 75, 0.0000,W, grid, , , ,
Point04,xy, 63, 1422,in, deg, 11, 0.0000,S, 78, 0.0000,W, grid, , , ,
Point05,xy, 2003, 1435,in, deg, 11, 0.0000,S, 76, 30.0000,W, grid, , , ,
Point06,xy, 3942, 1451,in, deg, 11, 0.0000,S, 75, 0.0000,W, grid, , , ,
Point07,xy, 65, 2730,in, deg, 12, 0.0000,S, 78, 0.0000,W, grid, , , ,
Point08,xy, 1997, 2740,in, deg, 12, 0.0000,S, 76, 30.0000,W, grid, , , ,
Point09,xy, 3928, 2759,in, deg, 12, 0.0000,S, 75, 0.0000,W, grid, , , ,
Point10,xy, , ,in, deg, , ,, , ,, grid, , , ,
Point11,xy, , ,in, deg, , ,, , ,, grid, , , ,
Point12,xy, , ,in, deg, , ,, , ,, grid, , , ,
Point13,xy, , ,in, deg, , ,, , ,, grid, , , ,
Point14,xy, , ,in, deg, , ,, , ,, grid, , , ,
Point15,xy, , ,in, deg, , ,, , ,, grid, , , ,
Point16,xy, , ,in, deg, , ,, , ,, grid, , , ,
Point17,xy, , ,in, deg, , ,, , ,, grid, , , ,
Point18,xy, , ,in, deg, , ,, , ,, grid, , , ,
Point19,xy, , ,in, deg, , ,, , ,, grid, , , ,
Point20,xy, , ,in, deg, , ,, , ,, grid, , , ,
Point21,xy, , ,in, deg, , ,, , ,, grid, , , ,
Point22,xy, , ,in, deg, , ,, , ,, grid, , , ,
Point23,xy, , ,in, deg, , ,, , ,, grid, , , ,
Point24,xy, , ,in, deg, , ,, , ,, grid, , , ,
Point25,xy, , ,in, deg, , ,, , ,, grid, , , ,
Point26,xy, , ,in, deg, , ,, , ,, grid, , , ,
Point27,xy, , ,in, deg, , ,, , ,, grid, , , ,
Point28,xy, , ,in, deg, , ,, , ,, grid, , , ,
Point29,xy, , ,in, deg, , ,, , ,, grid, , , ,
Point30,xy, , ,in, deg, , ,, , ,, grid, , , ,
Projection Setup,,,,,,,,,,
Map Feature = MF ; Map Comment = MC These follow if they exist
Track File = TF These follow if they exist
Moving Map Parameters = MM? These follow if they exist
MM0,Yes
MMPNUM,4
MMPXY,1,0,0
MMPXY,2,4043,0
MMPXY,3,4014,2838
MMPXY,4,0,2809
MMPLL,1, -78.048202, -9.913748
MMPLL,2, -74.932764, -9.887857
MMPLL,3, -74.932823, -12.060396
MMPLL,4, -78.050243, -12.060695
MM1B,84.330294
MOP,Map Open Position,0,0
IWH,Map Image Width/Height,2500,1395
