OziExplorer Map Data File Version 2.2
C18-b-Pucallpa.png
sc18-2.png
1 ,Map Code,
Pulkovo 1942 (1),, 0.0000, 0.0000,WGS 84
Reserved 1
Reserved 2
Magnetic Variation,,,E
Map Projection,Latitude/Longitude,PolyCal,Yes,AutoCalOnly,No,BSBUseWPX,No
Point01,xy, 82, 119,in, deg, 8, 0.0000,S, 75, 0.0000,W, grid, , , ,
Point02,xy, 2040, 128,in, deg, 8, 0.0000,S, 73, 30.0000,W, grid, , , ,
Point03,xy, 3996, 135,in, deg, 8, 0.0000,S, 72, 0.0000,W, grid, , , ,
Point04,xy, 85, 1427,in, deg, 9, 0.0000,S, 75, 0.0000,W, grid, , , ,
Point05,xy, 2036, 1433,in, deg, 9, 0.0000,S, 73, 30.0000,W, grid, , , ,
Point06,xy, 3988, 1442,in, deg, 9, 0.0000,S, 72, 0.0000,W, grid, , , ,
Point07,xy, 89, 2733,in, deg, 10, 0.0000,S, 75, 0.0000,W, grid, , , ,
Point08,xy, 2033, 2739,in, deg, 10, 0.0000,S, 73, 30.0000,W, grid, , , ,
Point09,xy, 3978, 2749,in, deg, 10, 0.0000,S, 72, 0.0000,W, grid, , , ,
Point10,xy, , ,in, deg, , ,, , ,, grid, , , ,
Point11,xy, , ,in, deg, , ,, , ,, grid, , , ,
Point12,xy, , ,in, deg, , ,, , ,, grid, , , ,
Point13,xy, , ,in, deg, , ,, , ,, grid, , , ,
Point14,xy, , ,in, deg, , ,, , ,, grid, , , ,
Point15,xy, , ,in, deg, , ,, , ,, grid, , , ,
Point16,xy, , ,in, deg, , ,, , ,, grid, , , ,
Point17,xy, , ,in, deg, , ,, , ,, grid, , , ,
Point18,xy, , ,in, deg, , ,, , ,, grid, , , ,
Point19,xy, , ,in, deg, , ,, , ,, grid, , , ,
Point20,xy, , ,in, deg, , ,, , ,, grid, , , ,
Point21,xy, , ,in, deg, , ,, , ,, grid, , , ,
Point22,xy, , ,in, deg, , ,, , ,, grid, , , ,
Point23,xy, , ,in, deg, , ,, , ,, grid, , , ,
Point24,xy, , ,in, deg, , ,, , ,, grid, , , ,
Point25,xy, , ,in, deg, , ,, , ,, grid, , , ,
Point26,xy, , ,in, deg, , ,, , ,, grid, , , ,
Point27,xy, , ,in, deg, , ,, , ,, grid, , , ,
Point28,xy, , ,in, deg, , ,, , ,, grid, , , ,
Point29,xy, , ,in, deg, , ,, , ,, grid, , , ,
Point30,xy, , ,in, deg, , ,, , ,, grid, , , ,
Projection Setup,,,,,,,,,,
Map Feature = MF ; Map Comment = MC These follow if they exist
Track File = TF These follow if they exist
Moving Map Parameters = MM? These follow if they exist
MM0,Yes
MMPNUM,4
MMPXY,1,0,0
MMPXY,2,4081,1
MMPXY,3,4058,3118
MMPXY,4,0,3102
MMPLL,1, -75.062661, -7.908542
MMPLL,2, -71.936057, -7.896812
MMPLL,3, -71.936285, -10.282631
MMPLL,4, -75.069097, -10.282903
MM1B,84.450760
MOP,Map Open Position,0,0
IWH,Map Image Width/Height,2500,1395
