OziExplorer Map Data File Version 2.2
C18A-Uanako.png
sc18-1.png
1 ,Map Code,
Pulkovo 1942 (1),, 0.0000, 0.0000,WGS 84
Reserved 1
Reserved 2
Magnetic Variation,,,E
Map Projection,Latitude/Longitude,PolyCal,Yes,AutoCalOnly,No,BSBUseWPX,No
Point01,xy, 83, 107,in, deg, 8, 0.0000,S, 78, 0.0000,W, grid, , , ,
Point02,xy, 2039, 131,in, deg, 8, 0.0000,S, 76, 30.0000,W, grid, , , ,
Point03,xy, 4000, 152,in, deg, 8, 0.0000,S, 75, 0.0000,W, grid, , , ,
Point04,xy, 77, 1416,in, deg, 9, 0.0000,S, 78, 0.0000,W, grid, , , ,
Point05,xy, 2028, 1437,in, deg, 9, 0.0000,S, 76, 30.0000,W, grid, , , ,
Point06,xy, 3981, 1458,in, deg, 9, 0.0000,S, 75, 0.0000,W, grid, , , ,
Point07,xy, 72, 2726,in, deg, 10, 0.0000,S, 78, 0.0000,W, grid, , , ,
Point08,xy, 2014, 2740,in, deg, 10, 0.0000,S, 76, 30.0000,W, grid, , , ,
Point09,xy, 3962, 2763,in, deg, 10, 0.0000,S, 75, 0.0000,W, grid, , , ,
Point10,xy, , ,in, deg, , ,, , ,, grid, , , ,
Point11,xy, , ,in, deg, , ,, , ,, grid, , , ,
Point12,xy, , ,in, deg, , ,, , ,, grid, , , ,
Point13,xy, , ,in, deg, , ,, , ,, grid, , , ,
Point14,xy, , ,in, deg, , ,, , ,, grid, , , ,
Point15,xy, , ,in, deg, , ,, , ,, grid, , , ,
Point16,xy, , ,in, deg, , ,, , ,, grid, , , ,
Point17,xy, , ,in, deg, , ,, , ,, grid, , , ,
Point18,xy, , ,in, deg, , ,, , ,, grid, , , ,
Point19,xy, , ,in, deg, , ,, , ,, grid, , , ,
Point20,xy, , ,in, deg, , ,, , ,, grid, , , ,
Point21,xy, , ,in, deg, , ,, , ,, grid, , , ,
Point22,xy, , ,in, deg, , ,, , ,, grid, , , ,
Point23,xy, , ,in, deg, , ,, , ,, grid, , , ,
Point24,xy, , ,in, deg, , ,, , ,, grid, , , ,
Point25,xy, , ,in, deg, , ,, , ,, grid, , , ,
Point26,xy, , ,in, deg, , ,, , ,, grid, , , ,
Point27,xy, , ,in, deg, , ,, , ,, grid, , , ,
Point28,xy, , ,in, deg, , ,, , ,, grid, , , ,
Point29,xy, , ,in, deg, , ,, , ,, grid, , , ,
Point30,xy, , ,in, deg, , ,, , ,, grid, , , ,
Projection Setup,,,,,,,,,,
Map Feature = MF ; Map Comment = MC These follow if they exist
Track File = TF These follow if they exist
Moving Map Parameters = MM? These follow if they exist
MM0,Yes
MMPNUM,4
MMPXY,1,0,0
MMPXY,2,4117,2
MMPXY,3,4070,3159
MMPXY,4,0,3121
MMPLL,1, -78.063849, -7.918459
MMPLL,2, -74.912252, -7.883222
MMPLL,3, -74.912023, -10.303695
MMPLL,4, -78.053938, -10.303599
MM1B,84.464423
MOP,Map Open Position,0,0
IWH,Map Image Width/Height,2500,1395
