OziExplorer Map Data File Version 2.2
C17-b-Truchiljo.png
sc17-2.png
1 ,Map Code,
Pulkovo 1942 (1),, 0.0000, 0.0000,WGS 84
Reserved 1
Reserved 2
Magnetic Variation,,,E
Map Projection,Latitude/Longitude,PolyCal,Yes,AutoCalOnly,No,BSBUseWPX,No
Point01,xy, 63, 117,in, deg, 8, 0.0000,S, 81, 0.0000,W, grid, , , ,
Point02,xy, 2018, 120,in, deg, 8, 0.0000,S, 79, 30.0000,W, grid, , , ,
Point03,xy, 3976, 124,in, deg, 8, 0.0000,S, 78, 0.0000,W, grid, , , ,
Point04,xy, 69, 1421,in, deg, 9, 0.0000,S, 81, 0.0000,W, grid, , , ,
Point05,xy, 2020, 1426,in, deg, 9, 0.0000,S, 79, 30.0000,W, grid, , , ,
Point06,xy, 3973, 1430,in, deg, 9, 0.0000,S, 78, 0.0000,W, grid, , , ,
Point07,xy, 74, 2727,in, deg, 10, 0.0000,S, 81, 0.0000,W, grid, , , ,
Point08,xy, 2020, 2727,in, deg, 10, 0.0000,S, 79, 30.0000,W, grid, , , ,
Point09,xy, 3967, 2737,in, deg, 10, 0.0000,S, 78, 0.0000,W, grid, , , ,
Point10,xy, , ,in, deg, , ,, , ,, grid, , , ,
Point11,xy, , ,in, deg, , ,, , ,, grid, , , ,
Point12,xy, , ,in, deg, , ,, , ,, grid, , , ,
Point13,xy, , ,in, deg, , ,, , ,, grid, , , ,
Point14,xy, , ,in, deg, , ,, , ,, grid, , , ,
Point15,xy, , ,in, deg, , ,, , ,, grid, , , ,
Point16,xy, , ,in, deg, , ,, , ,, grid, , , ,
Point17,xy, , ,in, deg, , ,, , ,, grid, , , ,
Point18,xy, , ,in, deg, , ,, , ,, grid, , , ,
Point19,xy, , ,in, deg, , ,, , ,, grid, , , ,
Point20,xy, , ,in, deg, , ,, , ,, grid, , , ,
Point21,xy, , ,in, deg, , ,, , ,, grid, , , ,
Point22,xy, , ,in, deg, , ,, , ,, grid, , , ,
Point23,xy, , ,in, deg, , ,, , ,, grid, , , ,
Point24,xy, , ,in, deg, , ,, , ,, grid, , , ,
Point25,xy, , ,in, deg, , ,, , ,, grid, , , ,
Point26,xy, , ,in, deg, , ,, , ,, grid, , , ,
Point27,xy, , ,in, deg, , ,, , ,, grid, , , ,
Point28,xy, , ,in, deg, , ,, , ,, grid, , , ,
Point29,xy, , ,in, deg, , ,, , ,, grid, , , ,
Point30,xy, , ,in, deg, , ,, , ,, grid, , , ,
Projection Setup,,,,,,,,,,
Map Feature = MF ; Map Comment = MC These follow if they exist
Track File = TF These follow if they exist
Moving Map Parameters = MM? These follow if they exist
MM0,Yes
MMPNUM,4
MMPXY,1,0,0
MMPXY,2,4041,0
MMPXY,3,4031,2804
MMPXY,4,0,2793
MMPLL,1, -81.047545, -7.910110
MMPLL,2, -77.950398, -7.904550
MMPLL,3, -77.950731, -10.051912
MMPLL,4, -81.057232, -10.051597
MM1B,84.565048
MOP,Map Open Position,0,0
IWH,Map Image Width/Height,2500,1395
